BEGIN:VCALENDAR
VERSION:2.0
PRODID:-//ok.edith-webco.de//NONSGML kigkonsult.se iCalcreator 2.41.92//
CALSCALE:GREGORIAN
METHOD:PUBLISH
UID:62343235-6131-4733-a137-313934663833
X-WR-TIMEZONE:Europe/Berlin
X-LIC-LOCATION:Europe/Berlin
BEGIN:VEVENT
UID:583022-kulturportal@ok.edith-webco.de
DTSTAMP:20260425T102856Z
DESCRIPTION:Kurzbeschreibung:\n Ein gar trefflich Spectaculum auf der Schau
 enburg zu Oberkirch am 12. Juli 2026!\n Ort:\n Burgruine Schauenburg\n Bur
 gstraße 29\, 77704 Oberkirch\n Veranstalter:\n Lions Club Oberkirch-Schaue
 nburg\n Termin:\n Beginn: 12.07.2026\, 10:00 Uhr\n Ende: 12.07.2026\n Tick
 ets:\n Tickets kaufen\n https://ortenaukultur.reservix.de/p/reservix/event
 /2480796\n Tagesticket:\n bis 13\,00 € + Ermäßigung\n *Preise inkl. MwSt.
 \n \n Link:\n Zur Detailseite
DTSTART;TZID=Europe/Berlin:20260712T100000
DTEND;TZID=Europe/Berlin:20260712T130000
LOCATION:Burgruine Schauenburg\, Burgstraße 29\, 77704 Oberkirch
SUMMARY:Mittelalterliches Spectaculum auf der Schauenburg zu Oberkirch \, R
 uine Schauenburg
X-ALT-DESC;FMTTYPE=text/html:<strong>Kurzbeschreibung:</strong><br/>Ein gar
  trefflich Spectaculum auf der Schauenburg zu Oberkirch am 12. Juli 2026!<
 br /><strong>Ort:</strong><br/>Burgruine Schauenburg<br/>Burgstraße 29\, 7
 7704 Oberkirch<br /><strong>Veranstalter:</strong><br/>Lions Club Oberkirc
 h-Schauenburg<br /><strong>Termin:</strong><br/>Beginn: 12.07.2026\, 10:00
  Uhr<br/>Ende: 12.07.2026<br /><strong>Tickets: </strong><br/><a rel='asdf
 ' href='https://ok.edith-webco.de/de/veranstaltungen/heute-in-ortenaukultu
 r/detail/tickets/id/583022-mittelalterliches-spectaculum-auf-der-schauenbu
 rg-zu-oberkirch/?follow=https%253A%252F%252Fortenaukultur.reservix.de%252F
 p%252Freservix%252Fevent%252F2480796' target='_blank' title='' id='ticketl
 ink'>Tickets kaufen</a><br/>https://ortenaukultur.reservix.de/p/reservix/e
 vent/2480796<br/><b>Tagesticket: </b><br />bis 13\,00 &euro\;&nbsp\; + Erm
 äßigung<br />*Preise inkl. MwSt.<br /><br /><strong>Link:</strong><br/><a 
 href='https://ok.edith-webco.de/de/veranstaltungen/detail/veranstaltung/id
 /583022-mittelalterliches-spectaculum-auf-der-schauenburg-zu-oberkirch/?vt
 =1'>Zur Detailseite</a>
END:VEVENT
END:VCALENDAR
