BEGIN:VCALENDAR
VERSION:2.0
PRODID:-//ok.edith-webco.de//NONSGML kigkonsult.se iCalcreator 2.41.92//
CALSCALE:GREGORIAN
METHOD:PUBLISH
UID:34303232-3361-4264-b831-306462316238
X-WR-TIMEZONE:Europe/Berlin
X-LIC-LOCATION:Europe/Berlin
BEGIN:VEVENT
UID:568507-kulturportal@ok.edith-webco.de
DTSTAMP:20260425T181834Z
DESCRIPTION:Kurzbeschreibung:\n Weltmusik Alejandro Carrillo – Violine\, Ge
 sang Fabian Zeller - Gitarre\n Ort:\n Stadthalle - Bühne\n Großherzog-Frie
 drich-Str. 19\, 77694 Kehl\n Veranstalter:\n Kulturbüro Kehl\n Termin:\n B
 eginn: 28.04.2026\n Ende: 28.04.2026\n Tickets:\n Tickets kaufen\n https:/
 /ortenaukultur.reservix.de/p/reservix/event/2408591\n 1. Kategorie:\n bis 
 18\,60 € + Ermäßigung\n *Preise inkl. MwSt.\n \n Link:\n Zur Detailseite
DTSTART;TZID=Europe/Berlin:20260428T000000
DTEND;TZID=Europe/Berlin:20260428T030000
LOCATION:Stadthalle - Bühne\, Großherzog-Friedrich-Str. 19\, 77694 Kehl
SUMMARY:Passerelles // Duo Resonado \, Stadthalle - Bühne
X-ALT-DESC;FMTTYPE=text/html:<strong>Kurzbeschreibung:</strong><br/>Weltmus
 ik\nAlejandro Carrillo – Violine\, Gesang\nFabian Zeller - Gitarre<br /><s
 trong>Ort:</strong><br/>Stadthalle - Bühne<br/>Großherzog-Friedrich-Str. 1
 9\, 77694 Kehl<br /><strong>Veranstalter:</strong><br/>Kulturbüro Kehl<br 
 /><strong>Termin:</strong><br/>Beginn: 28.04.2026<br/>Ende: 28.04.2026<br 
 /><strong>Tickets: </strong><br/><a rel='asdf' href='https://ok.edith-webc
 o.de/de/veranstaltungen/morgen-in-der-ortenau/detail/tickets/id/568507-pas
 serelles-duo-resonado/?follow=https%253A%252F%252Fortenaukultur.reservix.d
 e%252Fp%252Freservix%252Fevent%252F2408591' target='_blank' title='' id='t
 icketlink'>Tickets kaufen</a><br/>https://ortenaukultur.reservix.de/p/rese
 rvix/event/2408591<br/><b>1. Kategorie: </b><br />bis 18\,60 &euro\;&nbsp\
 ; + Ermäßigung<br />*Preise inkl. MwSt.<br /><br /><strong>Link:</strong><
 br/><a href='https://ok.edith-webco.de/de/veranstaltungen/detail/veranstal
 tung/id/568507-passerelles-duo-resonado/?vt=1'>Zur Detailseite</a>
END:VEVENT
END:VCALENDAR
