BEGIN:VCALENDAR
VERSION:2.0
PRODID:-//ok.edith-webco.de//NONSGML kigkonsult.se iCalcreator 2.41.92//
CALSCALE:GREGORIAN
METHOD:PUBLISH
UID:38623166-3032-4061-a364-306561303165
X-WR-TIMEZONE:Europe/Berlin
X-LIC-LOCATION:Europe/Berlin
BEGIN:VEVENT
UID:556336-kulturportal@ok.edith-webco.de
DTSTAMP:20260425T155910Z
DESCRIPTION:Kurzbeschreibung:\n (Driving Miss Daisy) Schauspiel von Alfred 
 Uhry Deutsch von Ursula Lyn Tournee-Theater THESPISKARREN\n Ort:\n Stadtha
 lle - Großer Saal\n Großherzog-Friedrich-Str. 19\, 77694 Kehl\n Veranstalt
 er:\n Kulturbüro Kehl\n Termin:\n Beginn: 30.04.2026\n Ende: 30.04.2026\n 
 Tickets:\n Tickets kaufen\n https://ortenaukultur.reservix.de/p/reservix/e
 vent/2343543\n 1. Kategorie:\n bis 24\,10 € + Ermäßigung\n 2.Kategorie:\n 
 bis 20\,25 € + Ermäßigung\n 3.Kategorie:\n bis 17\,50 € + Ermäßigung\n 4. 
 Kategorie:\n bis 15\,30 € + Ermäßigung\n 5.Kategorie:\n bis 10\,90 € + Erm
 äßigung\n *Preise inkl. MwSt.\n \n Link:\n Zur Detailseite
DTSTART;TZID=Europe/Berlin:20260430T000000
DTEND;TZID=Europe/Berlin:20260430T030000
LOCATION:Stadthalle - Großer Saal\, Großherzog-Friedrich-Str. 19\, 77694 Ke
 hl
SUMMARY:Miss Daisy und ihr Chauffeur\, Stadthalle - Großer Saal
X-ALT-DESC;FMTTYPE=text/html:<strong>Kurzbeschreibung:</strong><br/>(Drivin
 g Miss Daisy)\nSchauspiel von Alfred Uhry \nDeutsch von Ursula Lyn\nTourne
 e-Theater THESPISKARREN\n<br /><strong>Ort:</strong><br/>Stadthalle - Groß
 er Saal<br/>Großherzog-Friedrich-Str. 19\, 77694 Kehl<br /><strong>Veranst
 alter:</strong><br/>Kulturbüro Kehl<br /><strong>Termin:</strong><br/>Begi
 nn: 30.04.2026<br/>Ende: 30.04.2026<br /><strong>Tickets: </strong><br/><a
  rel='asdf' href='https://ok.edith-webco.de/de/veranstaltungen/theater/com
 edy-kabarett/detail/tickets/id/556336-miss-daisy-und-ihr-chauffeur/?follow
 =https%253A%252F%252Fortenaukultur.reservix.de%252Fp%252Freservix%252Feven
 t%252F2343543' target='_blank' title='' id='ticketlink'>Tickets kaufen</a>
 <br/>https://ortenaukultur.reservix.de/p/reservix/event/2343543<br/><b>1. 
 Kategorie: </b><br />bis 24\,10 &euro\;&nbsp\; + Ermäßigung<br /><b>2.Kate
 gorie: </b><br />bis 20\,25 &euro\;&nbsp\; + Ermäßigung<br /><b>3.Kategori
 e: </b><br />bis 17\,50 &euro\;&nbsp\; + Ermäßigung<br /><b>4. Kategorie: 
 </b><br />bis 15\,30 &euro\;&nbsp\; + Ermäßigung<br /><b>5.Kategorie: </b>
 <br />bis 10\,90 &euro\;&nbsp\; + Ermäßigung<br />*Preise inkl. MwSt.<br /
 ><br /><strong>Link:</strong><br/><a href='https://ok.edith-webco.de/de/ve
 ranstaltungen/detail/veranstaltung/id/556336-miss-daisy-und-ihr-chauffeur/
 ?vt=1'>Zur Detailseite</a>
END:VEVENT
END:VCALENDAR
