BEGIN:VCALENDAR
VERSION:2.0
PRODID:-//ok.edith-webco.de//NONSGML kigkonsult.se iCalcreator 2.41.92//
CALSCALE:GREGORIAN
METHOD:PUBLISH
UID:35343661-3264-4232-b231-636631306631
X-WR-TIMEZONE:Europe/Berlin
X-LIC-LOCATION:Europe/Berlin
BEGIN:VEVENT
UID:573068-kulturportal@ok.edith-webco.de
DTSTAMP:20260425T140548Z
DESCRIPTION:Kurzbeschreibung:\n Comedy & Tragedy Das neue Programm von Hele
 ne Bockhorst ist eine Ode an das Leben.\n Ort:\n Reithalle im Kulturforum
 \n Moltkestraße 31\, 77654 Offenburg\n Veranstalter:\n Kulturbüro Offenbur
 g\n Termin:\n Beginn: 19.09.2026\, 20:00 Uhr\n Ende: 19.09.2026\n Tickets:
 \n Tickets kaufen\n https://ortenaukultur.reservix.de/p/reservix/event/242
 5202\n 1. Kategorie:\n bis 25\,20 € + Ermäßigung\n *Preise inkl. MwSt.\n 
 \n Link:\n Zur Detailseite
DTSTART;TZID=Europe/Berlin:20260919T200000
DTEND;TZID=Europe/Berlin:20260919T230000
LOCATION:Reithalle im Kulturforum\, Moltkestraße 31\, 77654 Offenburg
SUMMARY:Helene Bockhorst\, Reithalle im Kulturforum
X-ALT-DESC;FMTTYPE=text/html:<strong>Kurzbeschreibung:</strong><br/>Comedy 
 & Tragedy\nDas neue Programm von Helene Bockhorst ist eine Ode an das Lebe
 n.<br /><strong>Ort:</strong><br/>Reithalle im Kulturforum<br/>Moltkestraß
 e 31\, 77654 Offenburg<br /><strong>Veranstalter:</strong><br/>Kulturbüro 
 Offenburg<br /><strong>Termin:</strong><br/>Beginn: 19.09.2026\, 20:00 Uhr
 <br/>Ende: 19.09.2026<br /><strong>Tickets: </strong><br/><a rel='asdf' hr
 ef='https://ok.edith-webco.de/de/veranstaltungen/theater/comedy-kabarett/d
 etail/tickets/id/573068-helene-bockhorst/?follow=https%253A%252F%252Forten
 aukultur.reservix.de%252Fp%252Freservix%252Fevent%252F2425202' target='_bl
 ank' title='' id='ticketlink'>Tickets kaufen</a><br/>https://ortenaukultur
 .reservix.de/p/reservix/event/2425202<br/><b>1. Kategorie: </b><br />bis 2
 5\,20 &euro\;&nbsp\; + Ermäßigung<br />*Preise inkl. MwSt.<br /><br /><str
 ong>Link:</strong><br/><a href='https://ok.edith-webco.de/de/veranstaltung
 en/detail/veranstaltung/id/573068-helene-bockhorst/?vt=1'>Zur Detailseite<
 /a>
END:VEVENT
END:VCALENDAR
