BEGIN:VCALENDAR
VERSION:2.0
PRODID:-//ok.edith-webco.de//NONSGML kigkonsult.se iCalcreator 2.41.92//
CALSCALE:GREGORIAN
METHOD:PUBLISH
UID:32626133-3434-4435-b730-333364633265
X-WR-TIMEZONE:Europe/Berlin
X-LIC-LOCATION:Europe/Berlin
BEGIN:VEVENT
UID:585148-kulturportal@ok.edith-webco.de
DTSTAMP:20260425T234146Z
DESCRIPTION:Kurzbeschreibung:\n Mit dem Programm 'KLEINERE KATASTROPHEN' - 
 Lesung & Comedy in der Stadthalle am Nollen\n Ort:\n Stadthalle am Nollen
 \n Nollenstr. 15\, 77723 Gengenbach\n Veranstalter:\n Gengenbach Kultur- u
 nd Tourismus GmbH\n Termin:\n Beginn: 17.07.2026\, 20:00 Uhr\n Ende: 17.07
 .2026\n Tickets:\n Tickets kaufen\n https://ortenaukultur.reservix.de/p/re
 servix/event/2502203\n Kat. A:\n bis 30\,70 € + Ermäßigung\n Kat. B:\n bis
  28\,50 € + Ermäßigung\n *Preise inkl. MwSt.\n \n Link:\n Zur Detailseite
DTSTART;TZID=Europe/Berlin:20260717T200000
DTEND;TZID=Europe/Berlin:20260717T230000
LOCATION:Stadthalle am Nollen\, Nollenstr. 15\, 77723 Gengenbach
SUMMARY:OPEN AIR Sebastian Lehmann\, Stadthalle am Nollen
X-ALT-DESC;FMTTYPE=text/html:<strong>Kurzbeschreibung:</strong><br/> Mit de
 m Programm 'KLEINERE KATASTROPHEN' - Lesung & Comedy in der Stadthalle am 
 Nollen<br /><strong>Ort:</strong><br/>Stadthalle am Nollen<br/>Nollenstr. 
 15\, 77723 Gengenbach<br /><strong>Veranstalter:</strong><br/>Gengenbach K
 ultur- und Tourismus GmbH<br /><strong>Termin:</strong><br/>Beginn: 17.07.
 2026\, 20:00 Uhr<br/>Ende: 17.07.2026<br /><strong>Tickets: </strong><br/>
 <a rel='asdf' href='https://ok.edith-webco.de/de/veranstaltungen/theater/c
 omedy-kabarett/detail/tickets/id/585148-open-air-sebastian-lehmann/?follow
 =https%253A%252F%252Fortenaukultur.reservix.de%252Fp%252Freservix%252Feven
 t%252F2502203' target='_blank' title='' id='ticketlink'>Tickets kaufen</a>
 <br/>https://ortenaukultur.reservix.de/p/reservix/event/2502203<br/><b>Kat
 . A: </b><br />bis 30\,70 &euro\;&nbsp\; + Ermäßigung<br /><b>Kat. B: </b>
 <br />bis 28\,50 &euro\;&nbsp\; + Ermäßigung<br />*Preise inkl. MwSt.<br /
 ><br /><strong>Link:</strong><br/><a href='https://ok.edith-webco.de/de/ve
 ranstaltungen/detail/veranstaltung/id/585148-open-air-sebastian-lehmann/?v
 t=1'>Zur Detailseite</a>
END:VEVENT
END:VCALENDAR
