BEGIN:VCALENDAR
VERSION:2.0
PRODID:-//ok.edith-webco.de//NONSGML kigkonsult.se iCalcreator 2.41.92//
CALSCALE:GREGORIAN
METHOD:PUBLISH
UID:32326535-3932-4165-a164-323031383930
X-WR-TIMEZONE:Europe/Berlin
X-LIC-LOCATION:Europe/Berlin
BEGIN:VEVENT
UID:585173-kulturportal@ok.edith-webco.de
DTSTAMP:20260425T110822Z
DESCRIPTION:Kurzbeschreibung:\n Vortrag mit Lichtbildern von Prof. Dr. Wern
 er Mezger\, Universität Freiburg i. Br..\n Ort:\n Gemeindehaus St. Michael
 \n Kirchplatz\, 77704 Oberkirch\n Veranstalter:\n Stadt Oberkirch\n Termin
 :\n Beginn: 05.11.2026\, 19:00 Uhr\n Ende: 05.11.2026\n Tickets:\n Tickets
  kaufen\n https://ortenaukultur.reservix.de/p/reservix/event/2499103\n Pre
 ise:\n bis 8\,00 € + Ermäßigung\n *Preise inkl. MwSt.\n \n Link:\n Zur Det
 ailseite
DTSTART;TZID=Europe/Berlin:20261105T190000
DTEND;TZID=Europe/Berlin:20261105T220000
LOCATION:Gemeindehaus St. Michael\, Kirchplatz\, 77704 Oberkirch
SUMMARY:Mehr als Kitsch\, Kommerz und Kerzen? Bräuche der Advents- und Weih
 nachtszeit\, Gemeindehaus St. Michael
X-ALT-DESC;FMTTYPE=text/html:<strong>Kurzbeschreibung:</strong><br/>Vortrag
  mit Lichtbildern von Prof. Dr. Werner Mezger\, Universität Freiburg i. Br
 ..<br /><strong>Ort:</strong><br/>Gemeindehaus St. Michael<br/>Kirchplatz\
 , 77704 Oberkirch<br /><strong>Veranstalter:</strong><br/>Stadt Oberkirch<
 br /><strong>Termin:</strong><br/>Beginn: 05.11.2026\, 19:00 Uhr<br/>Ende:
  05.11.2026<br /><strong>Tickets: </strong><br/><a rel='asdf' href='https:
 //ok.edith-webco.de/de/veranstaltungen/theater/comedy-kabarett/detail/tick
 ets/id/585173-mehr-als-kitsch-kommerz-und-kerzen-braeuche-der-advents-und-
 weihnachtszeit/?follow=https%253A%252F%252Fortenaukultur.reservix.de%252Fp
 %252Freservix%252Fevent%252F2499103' target='_blank' title='' id='ticketli
 nk'>Tickets kaufen</a><br/>https://ortenaukultur.reservix.de/p/reservix/ev
 ent/2499103<br/><b>Preise: </b><br />bis 8\,00 &euro\;&nbsp\; + Ermäßigung
 <br />*Preise inkl. MwSt.<br /><br /><strong>Link:</strong><br/><a href='h
 ttps://ok.edith-webco.de/de/veranstaltungen/detail/veranstaltung/id/585173
 -mehr-als-kitsch-kommerz-und-kerzen-braeuche-der-advents-und-weihnachtszei
 t/?vt=1'>Zur Detailseite</a>
END:VEVENT
END:VCALENDAR
