BEGIN:VCALENDAR
VERSION:2.0
PRODID:-//ok.edith-webco.de//NONSGML kigkonsult.se iCalcreator 2.41.92//
CALSCALE:GREGORIAN
METHOD:PUBLISH
UID:30343366-3966-4238-a439-623436313961
X-WR-TIMEZONE:Europe/Berlin
X-LIC-LOCATION:Europe/Berlin
BEGIN:VEVENT
UID:588965-kulturportal@ok.edith-webco.de
DTSTAMP:20260426T040513Z
DESCRIPTION:Kurzbeschreibung:\n Andreas Rebers gastiert wieder einmal mit s
 einem neuen Programm\, Rein geschäftlich\, in der Reithalle Offenburg\n Or
 t:\n Reithalle im Kulturforum\n Moltkestraße 31\, 77654 Offenburg\n Verans
 talter:\n Kulturbüro Offenburg\n Termin:\n Beginn: 26.02.2027\, 20:00 Uhr
 \n Ende: 26.02.2027\n Tickets:\n Tickets kaufen\n https://ortenaukultur.re
 servix.de/p/reservix/event/2516302\n 1. Kategorie:\n bis 28\,50 € + Ermäßi
 gung\n *Preise inkl. MwSt.\n \n Link:\n Zur Detailseite
DTSTART;TZID=Europe/Berlin:20270226T200000
DTEND;TZID=Europe/Berlin:20270226T230000
LOCATION:Reithalle im Kulturforum\, Moltkestraße 31\, 77654 Offenburg
SUMMARY:Andreas Rebers - Rein geschäftlich: Bilanz \, Reithalle im Kulturfo
 rum
X-ALT-DESC;FMTTYPE=text/html:<strong>Kurzbeschreibung:</strong><br/>Andreas
  Rebers gastiert wieder einmal mit seinem neuen Programm\, Rein geschäftli
 ch\, in der Reithalle Offenburg<br /><strong>Ort:</strong><br/>Reithalle i
 m Kulturforum<br/>Moltkestraße 31\, 77654 Offenburg<br /><strong>Veranstal
 ter:</strong><br/>Kulturbüro Offenburg<br /><strong>Termin:</strong><br/>B
 eginn: 26.02.2027\, 20:00 Uhr<br/>Ende: 26.02.2027<br /><strong>Tickets: <
 /strong><br/><a rel='asdf' href='https://ok.edith-webco.de/de/veranstaltun
 gen/theater/comedy-kabarett/detail/tickets/id/588965-andreas-rebers-rein-g
 eschaeftlich-bilanz/?follow=https%253A%252F%252Fortenaukultur.reservix.de%
 252Fp%252Freservix%252Fevent%252F2516302' target='_blank' title='' id='tic
 ketlink'>Tickets kaufen</a><br/>https://ortenaukultur.reservix.de/p/reserv
 ix/event/2516302<br/><b>1. Kategorie: </b><br />bis 28\,50 &euro\;&nbsp\; 
 + Ermäßigung<br />*Preise inkl. MwSt.<br /><br /><strong>Link:</strong><br
 /><a href='https://ok.edith-webco.de/de/veranstaltungen/detail/veranstaltu
 ng/id/588965-andreas-rebers-rein-geschaeftlich-bilanz/?vt=1'>Zur Detailsei
 te</a>
END:VEVENT
END:VCALENDAR
