BEGIN:VCALENDAR
VERSION:2.0
PRODID:-//ok.edith-webco.de//NONSGML kigkonsult.se iCalcreator 2.41.92//
CALSCALE:GREGORIAN
METHOD:PUBLISH
UID:31633463-3366-4436-b430-396665626433
X-WR-TIMEZONE:Europe/Berlin
X-LIC-LOCATION:Europe/Berlin
BEGIN:VEVENT
UID:589105-kulturportal@ok.edith-webco.de
DTSTAMP:20260425T220840Z
DESCRIPTION:Kurzbeschreibung:\n Florian Schroeder - Live-Tour „Schluss jetz
 t! Der satirische Jahresrückblick“\, in der Reihalle Offenburg\n Ort:\n Re
 ithalle im Kulturforum\n Moltkestraße 31\, 77654 Offenburg\n Veranstalter:
 \n Kulturbüro Offenburg\n Termin:\n Beginn: 20.12.2026\, 19:00 Uhr\n Ende:
  20.12.2026\n Tickets:\n Tickets kaufen\n https://ortenaukultur.reservix.d
 e/p/reservix/event/2482541\n 1. Kategorie:\n bis 25\,20 € + Ermäßigung\n *
 Preise inkl. MwSt.\n \n Link:\n Zur Detailseite
DTSTART;TZID=Europe/Berlin:20261220T190000
DTEND;TZID=Europe/Berlin:20261220T220000
LOCATION:Reithalle im Kulturforum\, Moltkestraße 31\, 77654 Offenburg
SUMMARY:Florian Schroeder\, Reithalle im Kulturforum
X-ALT-DESC;FMTTYPE=text/html:<strong>Kurzbeschreibung:</strong><br/>Florian
  Schroeder - Live-Tour „Schluss jetzt! Der satirische Jahresrückblick“\, i
 n der Reihalle Offenburg<br /><strong>Ort:</strong><br/>Reithalle im Kultu
 rforum<br/>Moltkestraße 31\, 77654 Offenburg<br /><strong>Veranstalter:</s
 trong><br/>Kulturbüro Offenburg<br /><strong>Termin:</strong><br/>Beginn: 
 20.12.2026\, 19:00 Uhr<br/>Ende: 20.12.2026<br /><strong>Tickets: </strong
 ><br/><a rel='asdf' href='https://ok.edith-webco.de/de/veranstaltungen/the
 ater/comedy-kabarett/detail/tickets/id/589105-florian-schroeder/?follow=ht
 tps%253A%252F%252Fortenaukultur.reservix.de%252Fp%252Freservix%252Fevent%2
 52F2482541' target='_blank' title='' id='ticketlink'>Tickets kaufen</a><br
 />https://ortenaukultur.reservix.de/p/reservix/event/2482541<br/><b>1. Kat
 egorie: </b><br />bis 25\,20 &euro\;&nbsp\; + Ermäßigung<br />*Preise inkl
 . MwSt.<br /><br /><strong>Link:</strong><br/><a href='https://ok.edith-we
 bco.de/de/veranstaltungen/detail/veranstaltung/id/589105-florian-schroeder
 /?vt=1'>Zur Detailseite</a>
END:VEVENT
END:VCALENDAR
