BEGIN:VCALENDAR
VERSION:2.0
PRODID:-//ok.edith-webco.de//NONSGML kigkonsult.se iCalcreator 2.41.92//
CALSCALE:GREGORIAN
METHOD:PUBLISH
UID:66363339-3937-4861-a630-396434653433
X-WR-TIMEZONE:Europe/Berlin
X-LIC-LOCATION:Europe/Berlin
BEGIN:VEVENT
UID:589109-kulturportal@ok.edith-webco.de
DTSTAMP:20260425T192021Z
DESCRIPTION:Kurzbeschreibung:\n 10 Jahre KAPParett – Das große Jubiläumskon
 zert „Best of Markus Kapp“: Ein unvergesslicher Abend mit den besten Momen
 ten aus 10 Jahren Comedy und Musik\n Ort:\n Reithalle im Kulturforum\n Mol
 tkestraße 31\, 77654 Offenburg\n Veranstalter:\n Kulturbüro Offenburg\n Te
 rmin:\n Beginn: 15.01.2027\, 20:00 Uhr\n Ende: 15.01.2027\n Tickets:\n Tic
 kets kaufen\n https://ortenaukultur.reservix.de/p/reservix/event/2498774\n
  1. Kategorie:\n bis 20\,80 € + Ermäßigung\n *Preise inkl. MwSt.\n \n Link
 :\n Zur Detailseite
DTSTART;TZID=Europe/Berlin:20270115T200000
DTEND;TZID=Europe/Berlin:20270115T230000
LOCATION:Reithalle im Kulturforum\, Moltkestraße 31\, 77654 Offenburg
SUMMARY:Markus Kapp\, Reithalle im Kulturforum
X-ALT-DESC;FMTTYPE=text/html:<strong>Kurzbeschreibung:</strong><br/>10 Jahr
 e KAPParett – Das große Jubiläumskonzert „Best of Markus Kapp“: Ein unverg
 esslicher Abend mit den besten Momenten aus 10 Jahren Comedy und Musik  <b
 r /><strong>Ort:</strong><br/>Reithalle im Kulturforum<br/>Moltkestraße 31
 \, 77654 Offenburg<br /><strong>Veranstalter:</strong><br/>Kulturbüro Offe
 nburg<br /><strong>Termin:</strong><br/>Beginn: 15.01.2027\, 20:00 Uhr<br/
 >Ende: 15.01.2027<br /><strong>Tickets: </strong><br/><a rel='asdf' href='
 https://ok.edith-webco.de/de/veranstaltungen/theater/comedy-kabarett/detai
 l/tickets/id/589109-markus-kapp/?follow=https%253A%252F%252Fortenaukultur.
 reservix.de%252Fp%252Freservix%252Fevent%252F2498774' target='_blank' titl
 e='' id='ticketlink'>Tickets kaufen</a><br/>https://ortenaukultur.reservix
 .de/p/reservix/event/2498774<br/><b>1. Kategorie: </b><br />bis 20\,80 &eu
 ro\;&nbsp\; + Ermäßigung<br />*Preise inkl. MwSt.<br /><br /><strong>Link:
 </strong><br/><a href='https://ok.edith-webco.de/de/veranstaltungen/detail
 /veranstaltung/id/589109-markus-kapp/?vt=1'>Zur Detailseite</a>
END:VEVENT
END:VCALENDAR
