BEGIN:VCALENDAR
VERSION:2.0
PRODID:-//ok.edith-webco.de//NONSGML kigkonsult.se iCalcreator 2.41.92//
CALSCALE:GREGORIAN
METHOD:PUBLISH
UID:64383236-6266-4432-b637-616166373039
X-WR-TIMEZONE:Europe/Berlin
X-LIC-LOCATION:Europe/Berlin
BEGIN:VEVENT
UID:595016-kulturportal@ok.edith-webco.de
DTSTAMP:20260425T232455Z
DESCRIPTION:Kurzbeschreibung:\n Kilgus und Kraus. Schluss mit Lustig ! Info
 tainment mit musikalischer Begleitung am Klavier.\n Ort:\n Reithalle im Ku
 lturforum\n Moltkestraße 31\, 77654 Offenburg\n Veranstalter:\n Kulturbüro
  Offenburg\n Termin:\n Beginn: 05.03.2027\, 20:00 Uhr\n Ende: 05.03.2027\n
  Tickets:\n Tickets kaufen\n https://ortenaukultur.reservix.de/p/reservix/
 event/2552681\n 1. Kategorie:\n bis 25\,20 € + Ermäßigung\n *Preise inkl. 
 MwSt.\n \n Link:\n Zur Detailseite
DTSTART;TZID=Europe/Berlin:20270305T200000
DTEND;TZID=Europe/Berlin:20270305T230000
LOCATION:Reithalle im Kulturforum\, Moltkestraße 31\, 77654 Offenburg
SUMMARY:Schluss mit lustig !\, Reithalle im Kulturforum
X-ALT-DESC;FMTTYPE=text/html:<strong>Kurzbeschreibung:</strong><br/>Kilgus 
 und Kraus. Schluss mit Lustig ! Infotainment mit musikalischer Begleitung 
 am Klavier. \n<br /><strong>Ort:</strong><br/>Reithalle im Kulturforum<br/
 >Moltkestraße 31\, 77654 Offenburg<br /><strong>Veranstalter:</strong><br/
 >Kulturbüro Offenburg<br /><strong>Termin:</strong><br/>Beginn: 05.03.2027
 \, 20:00 Uhr<br/>Ende: 05.03.2027<br /><strong>Tickets: </strong><br/><a r
 el='asdf' href='https://ok.edith-webco.de/de/veranstaltungen/theater/comed
 y-kabarett/detail/tickets/id/595016-schluss-mit-lustig/?follow=https%253A%
 252F%252Fortenaukultur.reservix.de%252Fp%252Freservix%252Fevent%252F255268
 1' target='_blank' title='' id='ticketlink'>Tickets kaufen</a><br/>https:/
 /ortenaukultur.reservix.de/p/reservix/event/2552681<br/><b>1. Kategorie: <
 /b><br />bis 25\,20 &euro\;&nbsp\; + Ermäßigung<br />*Preise inkl. MwSt.<b
 r /><br /><strong>Link:</strong><br/><a href='https://ok.edith-webco.de/de
 /veranstaltungen/detail/veranstaltung/id/595016-schluss-mit-lustig/?vt=1'>
 Zur Detailseite</a>
END:VEVENT
END:VCALENDAR
