BEGIN:VCALENDAR
VERSION:2.0
PRODID:-//ok.edith-webco.de//NONSGML kigkonsult.se iCalcreator 2.41.92//
CALSCALE:GREGORIAN
METHOD:PUBLISH
UID:34316435-6561-4861-a138-366532623961
X-WR-TIMEZONE:Europe/Berlin
X-LIC-LOCATION:Europe/Berlin
BEGIN:VEVENT
UID:581669-kulturportal@ok.edith-webco.de
DTSTAMP:20260425T150636Z
DESCRIPTION:Kurzbeschreibung:\n 'Die Kleine Hexe' nach Otfried Preußler. Fr
 eilichttheater für Familien mit Kindern ab 6 Jahren.\n Ort:\n im Garten de
 s 'freche hus'\n Apothekergasse 7\, 77704 Oberkirch\n Veranstalter:\n Jung
 e Bühne der Realschule Oberkirch\n Termin:\n Beginn: 26.07.2026\, 10:30 Uh
 r\n Ende: 26.07.2026\n Tickets:\n Tickets kaufen\n https://ortenaukultur.r
 eservix.de/p/reservix/event/2537975\n Preise:\n bis 9\,00 € + Ermäßigung\n
  *Preise inkl. MwSt.\n \n Link:\n Zur Detailseite
DTSTART;TZID=Europe/Berlin:20260726T103000
DTEND;TZID=Europe/Berlin:20260726T133000
LOCATION:im Garten des 'freche hus'\, Apothekergasse 7\, 77704 Oberkirch
SUMMARY:Junge Bühne: Die Kleine Hexe\, im Garten des 'freche hus'
X-ALT-DESC;FMTTYPE=text/html:<strong>Kurzbeschreibung:</strong><br/>'Die Kl
 eine Hexe' nach Otfried Preußler. Freilichttheater für Familien mit Kinder
 n ab 6 Jahren.<br /><strong>Ort:</strong><br/>im Garten des 'freche hus'<b
 r/>Apothekergasse 7\, 77704 Oberkirch<br /><strong>Veranstalter:</strong><
 br/>Junge Bühne der Realschule Oberkirch<br /><strong>Termin:</strong><br/
 >Beginn: 26.07.2026\, 10:30 Uhr<br/>Ende: 26.07.2026<br /><strong>Tickets:
  </strong><br/><a rel='asdf' href='https://ok.edith-webco.de/de/veranstalt
 ungen/theater/kinder-jugendtheater/detail/tickets/id/581669-junge-buehne-d
 ie-kleine-hexe/?follow=https%253A%252F%252Fortenaukultur.reservix.de%252Fp
 %252Freservix%252Fevent%252F2537975' target='_blank' title='' id='ticketli
 nk'>Tickets kaufen</a><br/>https://ortenaukultur.reservix.de/p/reservix/ev
 ent/2537975<br/><b>Preise: </b><br />bis 9\,00 &euro\;&nbsp\; + Ermäßigung
 <br />*Preise inkl. MwSt.<br /><br /><strong>Link:</strong><br/><a href='h
 ttps://ok.edith-webco.de/de/veranstaltungen/detail/veranstaltung/id/581669
 -junge-buehne-die-kleine-hexe/?vt=1'>Zur Detailseite</a>
END:VEVENT
END:VCALENDAR
