BEGIN:VCALENDAR
VERSION:2.0
PRODID:-//ok.edith-webco.de//NONSGML kigkonsult.se iCalcreator 2.41.92//
CALSCALE:GREGORIAN
METHOD:PUBLISH
UID:38366365-3733-4336-a336-633536646533
X-WR-TIMEZONE:Europe/Berlin
X-LIC-LOCATION:Europe/Berlin
BEGIN:VEVENT
UID:585169-kulturportal@ok.edith-webco.de
DTSTAMP:20260426T035738Z
DESCRIPTION:Kurzbeschreibung:\n Ein einmaliges\, besonderes musikalisch-the
 atrales Erlebnis für alle ab 4 Jahren.\n Ort:\n Erwin-Braun-Halle\n Querst
 raße 10\, 77704 Oberkirch\n Veranstalter:\n Stadt Oberkirch\n Termin:\n Be
 ginn: 24.10.2026\, 16:00 Uhr\n Ende: 24.10.2026\n Tickets:\n Tickets kaufe
 n\n https://ortenaukultur.reservix.de/p/reservix/event/2499093\n Preise:\n
  bis 9\,00 € + Ermäßigung\n *Preise inkl. MwSt.\n \n Link:\n Zur Detailsei
 te
DTSTART;TZID=Europe/Berlin:20261024T160000
DTEND;TZID=Europe/Berlin:20261024T190000
LOCATION:Erwin-Braun-Halle\, Querstraße 10\, 77704 Oberkirch
SUMMARY:Der Wolf und die sieben Geißlein\, Erwin-Braun-Halle
X-ALT-DESC;FMTTYPE=text/html:<strong>Kurzbeschreibung:</strong><br/>Ein ein
 maliges\, besonderes musikalisch-theatrales Erlebnis für alle ab 4 Jahren.
 <br /><strong>Ort:</strong><br/>Erwin-Braun-Halle<br/>Querstraße 10\, 7770
 4 Oberkirch<br /><strong>Veranstalter:</strong><br/>Stadt Oberkirch<br /><
 strong>Termin:</strong><br/>Beginn: 24.10.2026\, 16:00 Uhr<br/>Ende: 24.10
 .2026<br /><strong>Tickets: </strong><br/><a rel='asdf' href='https://ok.e
 dith-webco.de/de/veranstaltungen/theater/kinder-jugendtheater/detail/ticke
 ts/id/585169-der-wolf-und-die-sieben-geisslein/?follow=https%253A%252F%252
 Fortenaukultur.reservix.de%252Fp%252Freservix%252Fevent%252F2499093' targe
 t='_blank' title='' id='ticketlink'>Tickets kaufen</a><br/>https://ortenau
 kultur.reservix.de/p/reservix/event/2499093<br/><b>Preise: </b><br />bis 9
 \,00 &euro\;&nbsp\; + Ermäßigung<br />*Preise inkl. MwSt.<br /><br /><stro
 ng>Link:</strong><br/><a href='https://ok.edith-webco.de/de/veranstaltunge
 n/detail/veranstaltung/id/585169-der-wolf-und-die-sieben-geisslein/?vt=1'>
 Zur Detailseite</a>
END:VEVENT
END:VCALENDAR
