BEGIN:VCALENDAR
VERSION:2.0
PRODID:-//ok.edith-webco.de//NONSGML kigkonsult.se iCalcreator 2.41.92//
CALSCALE:GREGORIAN
METHOD:PUBLISH
UID:64353762-3733-4736-a664-666633343435
X-WR-TIMEZONE:Europe/Berlin
X-LIC-LOCATION:Europe/Berlin
BEGIN:VEVENT
UID:595289-kulturportal@ok.edith-webco.de
DTSTAMP:20260426T015935Z
DESCRIPTION:Kurzbeschreibung:\n Ein Puppentheaterstück für Kinder ab 2 Jahr
 en Dauer : 40 Minuten *Freilichtveranstaltung*\n Ort:\n Theaterwelt\, Röme
 rstr. 82\, Rheingoldcenter\n Römerstr. 82\, 77694 Kehl-Goldscheuer\n Veran
 stalter:\n Theaterwelt\n Termin:\n Beginn: 12.07.2026\, 11:00 Uhr\n Ende: 
 12.07.2026\n Tickets:\n Tickets\n Kinder : 6 €\n Erwachsene : 9€\n \n Link
 :\n Zur Detailseite
DTSTART;TZID=Europe/Berlin:20260712T110000
DTEND;TZID=Europe/Berlin:20260712T140000
LOCATION:Theaterwelt\, Römerstr. 82\, Rheingoldcenter\, Römerstr. 82\, 7769
 4 Kehl-Goldscheuer
SUMMARY:Jonne pflanzt Blumen des Glücks\, Theaterwelt
X-ALT-DESC;FMTTYPE=text/html:<strong>Kurzbeschreibung:</strong><br/>Ein Pup
 pentheaterstück für Kinder ab 2 Jahren\nDauer : 40 Minuten\n*Freilichtvera
 nstaltung*<br /><strong>Ort:</strong><br/>Theaterwelt\, Römerstr. 82\, Rhe
 ingoldcenter<br/>Römerstr. 82\, 77694 Kehl-Goldscheuer<br /><strong>Verans
 talter:</strong><br/>Theaterwelt<br /><strong>Termin:</strong><br/>Beginn:
  12.07.2026\, 11:00 Uhr<br/>Ende: 12.07.2026<br /><strong>Tickets: </stron
 g><br/><a  class='wco_cb_subtitle_link'  id='ticketlink'  href='mailto:inf
 o@theater-welt.de' target='_blank' >Tickets</a><br/>Kinder : 6 €<br />\nEr
 wachsene : 9€<br />\n<br /><strong>Link:</strong><br/><a href='https://ok.
 edith-webco.de/de/veranstaltungen/detail/veranstaltung/id/595289-jonne-pfl
 anzt-blumen-des-gluecks/?vt=1'>Zur Detailseite</a>
END:VEVENT
END:VCALENDAR
