BEGIN:VCALENDAR
VERSION:2.0
PRODID:-//ok.edith-webco.de//NONSGML kigkonsult.se iCalcreator 2.41.92//
CALSCALE:GREGORIAN
METHOD:PUBLISH
UID:66333666-3131-4531-a362-636337626334
X-WR-TIMEZONE:Europe/Berlin
X-LIC-LOCATION:Europe/Berlin
BEGIN:VEVENT
UID:581575-kulturportal@ok.edith-webco.de
DTSTAMP:20260425T104609Z
DESCRIPTION:Kurzbeschreibung:\n Eine Geschichte von Jürgen von Bülow über L
 ebenslust\, List und Leidenschaft - mitten im Schwarzwald. Inszeniert von 
 der Burgbühne Oberkirch.\n Ort:\n im Garten des 'freche hus'\n Apothekerga
 sse 7\, 77704 Oberkirch\n Veranstalter:\n Burgbühne Oberkirch\n Termin:\n 
 Beginn: 05.07.2026\, 19:00 Uhr\n Ende: 05.07.2026\n Tickets:\n Tickets kau
 fen\n https://ortenaukultur.reservix.de/p/reservix/event/2523771\n Preise:
 \n bis 16\,00 € + Ermäßigung\n *Preise inkl. MwSt.\n \n Link:\n Zur Detail
 seite
DTSTART;TZID=Europe/Berlin:20260705T190000
DTEND;TZID=Europe/Berlin:20260705T220000
LOCATION:im Garten des 'freche hus'\, Apothekergasse 7\, 77704 Oberkirch
SUMMARY:Annas Herzstück (Freilichttheater)\, im Garten des 'freche hus'
X-ALT-DESC;FMTTYPE=text/html:<strong>Kurzbeschreibung:</strong><br/>Eine Ge
 schichte von Jürgen von Bülow über Lebenslust\, List und Leidenschaft - mi
 tten im Schwarzwald. Inszeniert von der Burgbühne Oberkirch.<br /><strong>
 Ort:</strong><br/>im Garten des 'freche hus'<br/>Apothekergasse 7\, 77704 
 Oberkirch<br /><strong>Veranstalter:</strong><br/>Burgbühne Oberkirch<br /
 ><strong>Termin:</strong><br/>Beginn: 05.07.2026\, 19:00 Uhr<br/>Ende: 05.
 07.2026<br /><strong>Tickets: </strong><br/><a rel='asdf' href='https://ok
 .edith-webco.de/de/veranstaltungen/theater/theater-amateurtheater/detail/t
 ickets/id/581575-annas-herzstueck-freilichttheater/?follow=https%253A%252F
 %252Fortenaukultur.reservix.de%252Fp%252Freservix%252Fevent%252F2523771' t
 arget='_blank' title='' id='ticketlink'>Tickets kaufen</a><br/>https://ort
 enaukultur.reservix.de/p/reservix/event/2523771<br/><b>Preise: </b><br />b
 is 16\,00 &euro\;&nbsp\; + Ermäßigung<br />*Preise inkl. MwSt.<br /><br />
 <strong>Link:</strong><br/><a href='https://ok.edith-webco.de/de/veranstal
 tungen/detail/veranstaltung/id/581575-annas-herzstueck-freilichttheater/?v
 t=1'>Zur Detailseite</a>
END:VEVENT
END:VCALENDAR
