BEGIN:VCALENDAR
VERSION:2.0
PRODID:-//ok.edith-webco.de//NONSGML kigkonsult.se iCalcreator 2.41.92//
CALSCALE:GREGORIAN
METHOD:PUBLISH
UID:38373665-3438-4465-b363-366166623962
X-WR-TIMEZONE:Europe/Berlin
X-LIC-LOCATION:Europe/Berlin
BEGIN:VEVENT
UID:585288-kulturportal@ok.edith-webco.de
DTSTAMP:20260425T205244Z
DESCRIPTION:Kurzbeschreibung:\n Astrid Lindgren. Die Geschichte einer große
 n Frau. Mit eigens für das Stück geschriebener Live-Musik.\n Ort:\n Parkth
 eater\n Kaiserstraße 107\, 77933 Lahr\n Veranstalter:\n LahrKultur\n Termi
 n:\n Beginn: 13.04.2027\, 20:00 Uhr\n Ende: 13.04.2027\n Tickets:\n Ticket
 s kaufen\n https://ortenaukultur.reservix.de/p/reservix/event/2542328\n 1.
  Platz:\n bis 24\,10 € + Ermäßigung\n 2. Platz:\n bis 20\,80 € + Ermäßigun
 g\n 3. Platz:\n bis 16\,40 € + Ermäßigung\n 4. Platz:\n bis 10\,90 € + Erm
 äßigung\n *Preise inkl. MwSt.\n \n Link:\n Zur Detailseite
DTSTART;TZID=Europe/Berlin:20270413T200000
DTEND;TZID=Europe/Berlin:20270413T230000
LOCATION:Parktheater\, Kaiserstraße 107\, 77933 Lahr
SUMMARY:Ich bin Astrid aus Småland\, Parktheater
X-ALT-DESC;FMTTYPE=text/html:<strong>Kurzbeschreibung:</strong><br/>Astrid 
 Lindgren. Die Geschichte einer großen Frau.\nMit eigens für das Stück gesc
 hriebener Live-Musik.<br /><strong>Ort:</strong><br/>Parktheater<br/>Kaise
 rstraße 107\, 77933 Lahr<br /><strong>Veranstalter:</strong><br/>LahrKultu
 r<br /><strong>Termin:</strong><br/>Beginn: 13.04.2027\, 20:00 Uhr<br/>End
 e: 13.04.2027<br /><strong>Tickets: </strong><br/><a rel='asdf' href='http
 s://ok.edith-webco.de/de/veranstaltungen/theater/theater-amateurtheater/de
 tail/tickets/id/585288-ich-bin-astrid-aus-smaaland/?follow=https%253A%252F
 %252Fortenaukultur.reservix.de%252Fp%252Freservix%252Fevent%252F2542328' t
 arget='_blank' title='' id='ticketlink'>Tickets kaufen</a><br/>https://ort
 enaukultur.reservix.de/p/reservix/event/2542328<br/><b>1. Platz: </b><br /
 >bis 24\,10 &euro\;&nbsp\; + Ermäßigung<br /><b>2. Platz: </b><br />bis 20
 \,80 &euro\;&nbsp\; + Ermäßigung<br /><b>3. Platz: </b><br />bis 16\,40 &e
 uro\;&nbsp\; + Ermäßigung<br /><b>4. Platz: </b><br />bis 10\,90 &euro\;&n
 bsp\; + Ermäßigung<br />*Preise inkl. MwSt.<br /><br /><strong>Link:</stro
 ng><br/><a href='https://ok.edith-webco.de/de/veranstaltungen/detail/veran
 staltung/id/585288-ich-bin-astrid-aus-smaaland/?vt=1'>Zur Detailseite</a>
END:VEVENT
END:VCALENDAR
