BEGIN:VCALENDAR
VERSION:2.0
PRODID:-//ok.edith-webco.de//NONSGML kigkonsult.se iCalcreator 2.41.92//
CALSCALE:GREGORIAN
METHOD:PUBLISH
UID:30666532-6537-4539-b864-323035303136
X-WR-TIMEZONE:Europe/Berlin
X-LIC-LOCATION:Europe/Berlin
BEGIN:VEVENT
UID:588872-kulturportal@ok.edith-webco.de
DTSTAMP:20260425T133656Z
DESCRIPTION:Kurzbeschreibung:\n Kindermusical für Solisten\, Chor und Instr
 umentalensemble zum 'Jubiläum 175 Jahre Friedenskirche'\n Ort:\n Friedensk
 irche\n Hauptstraße - Marktplatz\, 77694 Kehl\n Veranstalter:\n Bezirkskan
 torat Kehl\n Termin:\n Beginn: 12.07.2026\n Ende: 12.07.2026\n Link:\n Zur
  Detailseite
DTSTART;TZID=Europe/Berlin:20260712T000000
DTEND;TZID=Europe/Berlin:20260712T030000
LOCATION:Friedenskirche\, Hauptstraße - Marktplatz\, 77694 Kehl
SUMMARY:Kinder-Musical\, Friedenskirche
X-ALT-DESC;FMTTYPE=text/html:<strong>Kurzbeschreibung:</strong><br/>Kinderm
 usical für Solisten\, Chor und Instrumentalensemble zum 'Jubiläum 175 Jahr
 e Friedenskirche'<br /><strong>Ort:</strong><br/>Friedenskirche<br/>Haupts
 traße - Marktplatz\, 77694 Kehl<br /><strong>Veranstalter:</strong><br/>Be
 zirkskantorat Kehl<br /><strong>Termin:</strong><br/>Beginn: 12.07.2026<br
 />Ende: 12.07.2026<br /><strong>Link:</strong><br/><a href='https://ok.edi
 th-webco.de/de/veranstaltungen/detail/veranstaltung/id/588872-kinder-music
 al/?vt=1'>Zur Detailseite</a>
END:VEVENT
END:VCALENDAR
