BEGIN:VCALENDAR
VERSION:2.0
PRODID:-//ok.edith-webco.de//NONSGML kigkonsult.se iCalcreator 2.41.92//
CALSCALE:GREGORIAN
METHOD:PUBLISH
UID:66666138-6632-4132-b964-633264363064
X-WR-TIMEZONE:Europe/Berlin
X-LIC-LOCATION:Europe/Berlin
BEGIN:VEVENT
UID:105566-kulturportal@ok.edith-webco.de
DTSTAMP:20260425T134244Z
DESCRIPTION:Kurzbeschreibung:\n Mit Spannung werden die Zuschauer und die F
 ans der teilnehmenden Vereine und Gruppen die Spiele verfolgen. Mit Bewirt
 ung\,\n Ort:\n beim Kunstrasenplatz\n Dorf 75\, 77784 Oberharmersbach\n Ve
 ranstalter:\n Sportverein Oberharmersbach e. V.\n Termin:\n Beginn: 27.06.
 2026\n Ende: 27.06.2026\n Link:\n Page détaillée
DTSTART;TZID=Europe/Berlin:20260627T000000
DTEND;TZID=Europe/Berlin:20260627T030000
LOCATION:beim Kunstrasenplatz\, Dorf 75\, 77784 Oberharmersbach
SUMMARY:Fußball-Ortsturnier\, beim Kunstrasenplatz
X-ALT-DESC;FMTTYPE=text/html:<strong>Kurzbeschreibung:</strong><br/>Mit Spa
 nnung werden die Zuschauer und die Fans der teilnehmenden Vereine und Grup
 pen die Spiele verfolgen. Mit Bewirtung\,<br /><strong>Ort:</strong><br/>b
 eim Kunstrasenplatz<br/>Dorf 75\, 77784 Oberharmersbach<br /><strong>Veran
 stalter:</strong><br/>Sportverein Oberharmersbach e. V.<br /><strong>Termi
 n:</strong><br/>Beginn: 27.06.2026<br/>Ende: 27.06.2026<br /><strong>Link:
 </strong><br/><a href='https://ok.edith-webco.de/fr/evenements/detail/even
 ement/id/105566-fussball-ortsturnier/?vt=1'>Page détaillée </a>
END:VEVENT
END:VCALENDAR
