BEGIN:VCALENDAR
VERSION:2.0
PRODID:-//ok.edith-webco.de//NONSGML kigkonsult.se iCalcreator 2.41.92//
CALSCALE:GREGORIAN
METHOD:PUBLISH
UID:30633939-6464-4736-b664-373964386238
X-WR-TIMEZONE:Europe/Berlin
X-LIC-LOCATION:Europe/Berlin
BEGIN:VEVENT
UID:207030-kulturportal@ok.edith-webco.de
DTSTAMP:20260425T125154Z
DESCRIPTION:Kurzbeschreibung:\n Das Aktionsteam Gengenbach feiert in der Ge
 ngenbacher Innenstadt wieder die Ladies Night mit Musik\, Kulinarischem un
 d Einkaufen bis 23Uhr.\n Ort:\n Innenstadt Gengenbach\n Victor-Kretz-Str./
 Hauptstr.\, 77723 Gengenbach\n Veranstalter:\n Aktionsteam Gengenbach\n Te
 rmin:\n Beginn: 30.07.2026\, 18:00 Uhr\n Ende: 30.07.2026\n Link:\n Page d
 étaillée
DTSTART;TZID=Europe/Berlin:20260730T180000
DTEND;TZID=Europe/Berlin:20260730T210000
LOCATION:Innenstadt Gengenbach\, Victor-Kretz-Str./Hauptstr.\, 77723 Gengen
 bach
SUMMARY:Ladies Night\, Innenstadt Gengenbach
X-ALT-DESC;FMTTYPE=text/html:<strong>Kurzbeschreibung:</strong><br/>Das Akt
 ionsteam Gengenbach feiert in der Gengenbacher Innenstadt wieder die Ladie
 s Night mit Musik\, Kulinarischem und Einkaufen bis 23Uhr.<br /><strong>Or
 t:</strong><br/>Innenstadt Gengenbach<br/>Victor-Kretz-Str./Hauptstr.\, 77
 723 Gengenbach<br /><strong>Veranstalter:</strong><br/>Aktionsteam Gengenb
 ach<br /><strong>Termin:</strong><br/>Beginn: 30.07.2026\, 18:00 Uhr<br/>E
 nde: 30.07.2026<br /><strong>Link:</strong><br/><a href='https://ok.edith-
 webco.de/fr/evenements/detail/evenement/id/207030-ladies-night/?vt=1'>Page
  détaillée </a>
END:VEVENT
END:VCALENDAR
