BEGIN:VCALENDAR
VERSION:2.0
PRODID:-//ok.edith-webco.de//NONSGML kigkonsult.se iCalcreator 2.41.92//
CALSCALE:GREGORIAN
METHOD:PUBLISH
UID:33633663-6464-4431-a363-363033353238
X-WR-TIMEZONE:Europe/Berlin
X-LIC-LOCATION:Europe/Berlin
BEGIN:VEVENT
UID:478588-kulturportal@ok.edith-webco.de
DTSTAMP:20260425T004359Z
DESCRIPTION:Kurzbeschreibung:\n In lauschiger Atmosphäre können die Gäste s
 timmungsvolle und gesellige Stunden voller Musik erleben.\n Ort:\n Sport- 
 und Festhalle\n Brucherstraße\, 77781 Biberach\n Veranstalter:\n Musikvere
 in Biberach e.V.\n Termin:\n Beginn: 19.07.2026\, 11:00 Uhr\n Ende: 19.07.
 2026\n Link:\n Page détaillée
DTSTART;TZID=Europe/Berlin:20260719T110000
DTEND;TZID=Europe/Berlin:20260719T140000
LOCATION:Sport- und Festhalle\, Brucherstraße\, 77781 Biberach
SUMMARY:Dorffest\, Sport- und Festhalle
X-ALT-DESC;FMTTYPE=text/html:<strong>Kurzbeschreibung:</strong><br/>In laus
 chiger Atmosphäre können die Gäste stimmungsvolle und gesellige Stunden vo
 ller Musik erleben.<br /><strong>Ort:</strong><br/>Sport- und Festhalle<br
 />Brucherstraße\, 77781 Biberach<br /><strong>Veranstalter:</strong><br/>M
 usikverein Biberach e.V.<br /><strong>Termin:</strong><br/>Beginn: 19.07.2
 026\, 11:00 Uhr<br/>Ende: 19.07.2026<br /><strong>Link:</strong><br/><a hr
 ef='https://ok.edith-webco.de/fr/evenements/detail/evenement/id/478588-dor
 ffest/?vt=1'>Page détaillée </a>
END:VEVENT
END:VCALENDAR
