BEGIN:VCALENDAR
VERSION:2.0
PRODID:-//ok.edith-webco.de//NONSGML kigkonsult.se iCalcreator 2.41.92//
CALSCALE:GREGORIAN
METHOD:PUBLISH
UID:66303462-3961-4135-b137-646536336630
X-WR-TIMEZONE:Europe/Berlin
X-LIC-LOCATION:Europe/Berlin
BEGIN:VEVENT
UID:507650-kulturportal@ok.edith-webco.de
DTSTAMP:20260425T155536Z
DESCRIPTION:Kurzbeschreibung:\n Es ist wieder soweit! Im Juni 2026 setzt da
 s Robert-Gerwig-Gymnasium Hausach (RGG) seine Tradition großer\, begeister
 nder Musicalaufführungen fort.\n Ort:\n Stadthalle\n Gustav-Rivinius-Platz
  3\, 77756 Hausach\n Veranstalter:\n Robert-Gerwig-Gymnasium\n Termin:\n B
 eginn: 12.06.2026\, 19:00 Uhr\n Ende: 12.06.2026\n Tickets:\n Start VVK: 1
 3.05.2026\n Link:\n Page détaillée
DTSTART;TZID=Europe/Berlin:20260612T190000
DTEND;TZID=Europe/Berlin:20260612T220000
LOCATION:Stadthalle\, Gustav-Rivinius-Platz 3\, 77756 Hausach
SUMMARY:RAGS - Musical des Robert-Gerwig-Gymnasiums\, Stadthalle
X-ALT-DESC;FMTTYPE=text/html:<strong>Kurzbeschreibung:</strong><br/>Es ist 
 wieder soweit! Im Juni 2026 setzt das Robert-Gerwig-Gymnasium Hausach (RGG
 ) seine\nTradition großer\, begeisternder Musicalaufführungen fort.<br /><
 strong>Ort:</strong><br/>Stadthalle<br/>Gustav-Rivinius-Platz 3\, 77756 Ha
 usach<br /><strong>Veranstalter:</strong><br/>Robert-Gerwig-Gymnasium<br /
 ><strong>Termin:</strong><br/>Beginn: 12.06.2026\, 19:00 Uhr<br/>Ende: 12.
 06.2026<br /><strong>Tickets: </strong><br/>Start VVK: 13.05.2026<br /><st
 rong>Link:</strong><br/><a href='https://ok.edith-webco.de/fr/evenements/d
 etail/evenement/id/507650-rags-musical-des-robert-gerwig-gymnasiums/?vt=1'
 >Page détaillée </a>
END:VEVENT
END:VCALENDAR
