BEGIN:VCALENDAR
VERSION:2.0
PRODID:-//ok.edith-webco.de//NONSGML kigkonsult.se iCalcreator 2.41.92//
CALSCALE:GREGORIAN
METHOD:PUBLISH
UID:36376537-3963-4836-b530-303937383164
X-WR-TIMEZONE:Europe/Berlin
X-LIC-LOCATION:Europe/Berlin
BEGIN:VEVENT
UID:521565-kulturportal@ok.edith-webco.de
DTSTAMP:20260424T221731Z
DESCRIPTION:Kurzbeschreibung:\n Kilwi das große Volksfest in Unterharmersba
 ch mit Fahrgeschäften und Jahrmarkt am Sonntag\n Ort:\n Beim Sportplatz Un
 terharmersbach\, Zell am Harmersbach\n Veranstalter:\n Fußballverein Unter
 harmersbach\n Termin:\n Beginn: 11.09.2026\, 21:00 Uhr\n Ende: 12.09.2026
 \n Link:\n Page détaillée
DTSTART;TZID=Europe/Berlin:20260911T210000
DTEND;TZID=Europe/Berlin:20260912T000000
LOCATION:Beim Sportplatz Unterharmersbach\, Zell am Harmersbach
SUMMARY:Hombacher Kilwi\, Beim Sportplatz Unterharmersbach
X-ALT-DESC;FMTTYPE=text/html:<strong>Kurzbeschreibung:</strong><br/>Kilwi d
 as große Volksfest in Unterharmersbach mit Fahrgeschäften und Jahrmarkt am
  Sonntag \n\n<br /><strong>Ort:</strong><br/>Beim Sportplatz Unterharmersb
 ach\, Zell am Harmersbach<br /><strong>Veranstalter:</strong><br/>Fußballv
 erein Unterharmersbach<br /><strong>Termin:</strong><br/>Beginn: 11.09.202
 6\, 21:00 Uhr<br/>Ende: 12.09.2026<br /><strong>Link:</strong><br/><a href
 ='https://ok.edith-webco.de/fr/evenements/detail/evenement/id/521565-homba
 cher-kilwi/?vt=1'>Page détaillée </a>
END:VEVENT
END:VCALENDAR
