BEGIN:VCALENDAR
VERSION:2.0
PRODID:-//ok.edith-webco.de//NONSGML kigkonsult.se iCalcreator 2.41.92//
CALSCALE:GREGORIAN
METHOD:PUBLISH
UID:61306134-6661-4630-b730-626530303533
X-WR-TIMEZONE:Europe/Berlin
X-LIC-LOCATION:Europe/Berlin
BEGIN:VEVENT
UID:529493-kulturportal@ok.edith-webco.de
DTSTAMP:20260424T233019Z
DESCRIPTION:Kurzbeschreibung:\n Die Wolftalspatzen laden alle Interessierte
 n zur Somme-Sonne-Sonnenschein-Sommerkonzert unterhalb der Festhalle Oberw
 olfach ein.\n Ort:\n Festhalle Oberwolfach\, Proberaum der Wolftalspatzen
 \n Wolftalstraße 16\, 77709 Oberwolfach\n Veranstalter:\n Wolftalspatzen\n
  Termin:\n Beginn: 19.06.2026\, 19:00 Uhr\n Ende: 19.06.2026\n Link:\n Pag
 e détaillée
DTSTART;TZID=Europe/Berlin:20260619T190000
DTEND;TZID=Europe/Berlin:20260619T220000
LOCATION:Festhalle Oberwolfach\, Proberaum der Wolftalspatzen \, Wolftalstr
 aße 16\, 77709 Oberwolfach
SUMMARY:Sommer-Sonne-Sonnenschein- Sommerkonzert\, Festhalle
X-ALT-DESC;FMTTYPE=text/html:<strong>Kurzbeschreibung:</strong><br/>Die Wol
 ftalspatzen laden alle Interessierten zur Somme-Sonne-Sonnenschein-Sommerk
 onzert unterhalb der Festhalle Oberwolfach ein.<br /><strong>Ort:</strong>
 <br/>Festhalle Oberwolfach\, Proberaum der Wolftalspatzen <br/>Wolftalstra
 ße 16\, 77709 Oberwolfach<br /><strong>Veranstalter:</strong><br/>Wolftals
 patzen<br /><strong>Termin:</strong><br/>Beginn: 19.06.2026\, 19:00 Uhr<br
 />Ende: 19.06.2026<br /><strong>Link:</strong><br/><a href='https://ok.edi
 th-webco.de/fr/evenements/detail/evenement/id/529493-sommer-sonne-sonnensc
 hein-sommerkonzert/?vt=1'>Page détaillée </a>
END:VEVENT
END:VCALENDAR
