BEGIN:VCALENDAR
VERSION:2.0
PRODID:-//ok.edith-webco.de//NONSGML kigkonsult.se iCalcreator 2.41.92//
CALSCALE:GREGORIAN
METHOD:PUBLISH
UID:33343330-6238-4637-a439-353237346334
X-WR-TIMEZONE:Europe/Berlin
X-LIC-LOCATION:Europe/Berlin
BEGIN:VEVENT
UID:556487-kulturportal@ok.edith-webco.de
DTSTAMP:20260424T204016Z
DESCRIPTION:Kurzbeschreibung:\n Eine ebenso temporeiche wie energiegeladene
  Bühnenversion mit schwäbischem Lokalkolorit und Live-Band. Frei nach dem 
 Film von John Landis.\n Ort:\n Parktheater\n Kaiserstraße 107\, 77933 Lahr
 \n Veranstalter:\n LahrKultur\n Termin:\n Beginn: 24.04.2026\, 20:00 Uhr\n
  Ende: 24.04.2026\n Link:\n Page détaillée
DTSTART;TZID=Europe/Berlin:20260424T200000
DTEND;TZID=Europe/Berlin:20260424T230000
LOCATION:Parktheater\, Kaiserstraße 107\, 77933 Lahr
SUMMARY:Die Blues Brothers - Ein Roadtrip through THE LÄND\, Parktheater
X-ALT-DESC;FMTTYPE=text/html:<strong>Kurzbeschreibung:</strong><br/>Eine eb
 enso temporeiche wie energiegeladene Bühnenversion mit schwäbischem Lokalk
 olorit und Live-Band.\n\nFrei nach dem Film von John Landis.\n<br /><stron
 g>Ort:</strong><br/>Parktheater<br/>Kaiserstraße 107\, 77933 Lahr<br /><st
 rong>Veranstalter:</strong><br/>LahrKultur<br /><strong>Termin:</strong><b
 r/>Beginn: 24.04.2026\, 20:00 Uhr<br/>Ende: 24.04.2026<br /><strong>Link:<
 /strong><br/><a href='https://ok.edith-webco.de/fr/evenements/detail/evene
 ment/id/556487-die-blues-brothers-ein-roadtrip-through-the-laend/?vt=1'>Pa
 ge détaillée </a>
END:VEVENT
END:VCALENDAR
