BEGIN:VCALENDAR
VERSION:2.0
PRODID:-//ok.edith-webco.de//NONSGML kigkonsult.se iCalcreator 2.41.92//
CALSCALE:GREGORIAN
METHOD:PUBLISH
UID:35353331-3563-4666-b331-626336646334
X-WR-TIMEZONE:Europe/Berlin
X-LIC-LOCATION:Europe/Berlin
BEGIN:VEVENT
UID:557189-kulturportal@ok.edith-webco.de
DTSTAMP:20260425T150909Z
DESCRIPTION:Kurzbeschreibung:\n Weinfest im Gengenbacher Ortsteil Reichenba
 ch mit der Musikkapelle Reichenbach und lokalen Weinen der Region\n Ort:\n
  Festplatz Santis Claus\n am Santis Claus\, 77723 Gengenbach-Reichenbach\n
  Veranstalter:\n Bläserjugend der Musikkapelle Reichenbach\n Termin:\n Beg
 inn: 13.09.2026\, 11:30 Uhr\n Ende: 13.09.2026\n Link:\n Page détaillée
DTSTART;TZID=Europe/Berlin:20260913T113000
DTEND;TZID=Europe/Berlin:20260913T143000
LOCATION:Festplatz Santis Claus\, am Santis Claus\, 77723 Gengenbach-Reiche
 nbach
SUMMARY:Weinfest in Reichenbach\, Festplatz Santis Claus
X-ALT-DESC;FMTTYPE=text/html:<strong>Kurzbeschreibung:</strong><br/>Weinfes
 t im Gengenbacher Ortsteil Reichenbach mit der Musikkapelle Reichenbach un
 d lokalen Weinen der Region <br /><strong>Ort:</strong><br/>Festplatz Sant
 is Claus<br/>am Santis Claus\, 77723 Gengenbach-Reichenbach<br /><strong>V
 eranstalter:</strong><br/>Bläserjugend der Musikkapelle Reichenbach<br /><
 strong>Termin:</strong><br/>Beginn: 13.09.2026\, 11:30 Uhr<br/>Ende: 13.09
 .2026<br /><strong>Link:</strong><br/><a href='https://ok.edith-webco.de/f
 r/evenements/detail/evenement/id/557189-weinfest-in-reichenbach/?vt=1'>Pag
 e détaillée </a>
END:VEVENT
END:VCALENDAR
