BEGIN:VCALENDAR
VERSION:2.0
PRODID:-//ok.edith-webco.de//NONSGML kigkonsult.se iCalcreator 2.41.92//
CALSCALE:GREGORIAN
METHOD:PUBLISH
UID:36376537-6364-4565-a531-366138396135
X-WR-TIMEZONE:Europe/Berlin
X-LIC-LOCATION:Europe/Berlin
BEGIN:VEVENT
UID:573879-kulturportal@ok.edith-webco.de
DTSTAMP:20260425T111703Z
DESCRIPTION:Kurzbeschreibung:\n Die Kolpingfamilie Oberwolfach freut sich a
 uch dieses Jahr wieder auf viele Besucher.\n Ort:\n Sportplatz an der Walk
 e\n An der Lai\, 77709 Oberwolfach\n Veranstalter:\n Kolpingfamilie Oberwo
 lfach\n Termin:\n Beginn: 28.06.2026\n Ende: 28.06.2026\n Tickets:\n Eintr
 itt frei\n Link:\n Page détaillée
DTSTART;TZID=Europe/Berlin:20260628T000000
DTEND;TZID=Europe/Berlin:20260628T030000
LOCATION:Sportplatz an der Walke\, An der Lai\, 77709 Oberwolfach
SUMMARY:Sommerfest Kolpingfamilie Oberwolfach\, Sportplatz an der Walke
X-ALT-DESC;FMTTYPE=text/html:<strong>Kurzbeschreibung:</strong><br/>Die Kol
 pingfamilie Oberwolfach freut sich auch dieses Jahr wieder auf viele Besuc
 her.<br /><strong>Ort:</strong><br/>Sportplatz an der Walke<br/>An der Lai
 \, 77709 Oberwolfach<br /><strong>Veranstalter:</strong><br/>Kolpingfamili
 e Oberwolfach <br /><strong>Termin:</strong><br/>Beginn: 28.06.2026<br/>En
 de: 28.06.2026<br /><strong>Tickets: </strong><br/>Eintritt frei<br /><str
 ong>Link:</strong><br/><a href='https://ok.edith-webco.de/fr/evenements/de
 tail/evenement/id/573879-sommerfest-kolpingfamilie-oberwolfach/?vt=1'>Page
  détaillée </a>
END:VEVENT
END:VCALENDAR
