BEGIN:VCALENDAR
VERSION:2.0
PRODID:-//ok.edith-webco.de//NONSGML kigkonsult.se iCalcreator 2.41.92//
CALSCALE:GREGORIAN
METHOD:PUBLISH
UID:65333032-6233-4063-b666-653837356231
X-WR-TIMEZONE:Europe/Berlin
X-LIC-LOCATION:Europe/Berlin
BEGIN:VEVENT
UID:580211-kulturportal@ok.edith-webco.de
DTSTAMP:20260425T152104Z
DESCRIPTION:Kurzbeschreibung:\n Die Carmina Burana von Carl Orff: jeder Sch
 lag ein Herzschlag\, jeder Chor ein Aufschrei!\n Ort:\n Kirchplatz\n Kirch
 platz\, 77704 Oberkirch\n Veranstalter:\n Kammerchor Oberkirch e.V.\n Term
 in:\n Beginn: 26.07.2026\, 19:00 Uhr\n Ende: 26.07.2026\n Tickets:\n VVK: 
 23 Euro Abendkasse: 25 Euro\n Link:\n Page détaillée
DTSTART;TZID=Europe/Berlin:20260726T190000
DTEND;TZID=Europe/Berlin:20260726T220000
LOCATION:Kirchplatz\, Kirchplatz\, 77704 Oberkirch
SUMMARY:„Carmina Burana“ - Kammerchor Oberkirch e.V. \, Kirchplatz
X-ALT-DESC;FMTTYPE=text/html:<strong>Kurzbeschreibung:</strong><br/>Die Car
 mina Burana von Carl Orff: jeder Schlag ein Herzschlag\, jeder Chor ein Au
 fschrei! <br /><strong>Ort:</strong><br/>Kirchplatz<br/>Kirchplatz\, 77704
  Oberkirch<br /><strong>Veranstalter:</strong><br/>Kammerchor Oberkirch e.
 V.<br /><strong>Termin:</strong><br/>Beginn: 26.07.2026\, 19:00 Uhr<br/>En
 de: 26.07.2026<br /><strong>Tickets: </strong><br/>VVK: 23 Euro Abendkasse
 : 25 Euro <br /><strong>Link:</strong><br/><a href='https://ok.edith-webco
 .de/fr/evenements/detail/evenement/id/580211-carmina-burana-kammerchor-obe
 rkirch-e-v/?vt=1'>Page détaillée </a>
END:VEVENT
END:VCALENDAR
