BEGIN:VCALENDAR
VERSION:2.0
PRODID:-//ok.edith-webco.de//NONSGML kigkonsult.se iCalcreator 2.41.92//
CALSCALE:GREGORIAN
METHOD:PUBLISH
UID:34663234-6632-4363-b130-643833366232
X-WR-TIMEZONE:Europe/Berlin
X-LIC-LOCATION:Europe/Berlin
BEGIN:VEVENT
UID:581298-kulturportal@ok.edith-webco.de
DTSTAMP:20260425T133259Z
DESCRIPTION:Kurzbeschreibung:\n Von Django Reinhardt über Edith Piaf bis zu
  Zaz\, von Evelyn Künneke bis hin zu Namika im Swinggewand…\n Ort:\n KKW K
 ulturkeller in der Winterschule\n Stammgässle 2\, 77955 Ettenheim\n Verans
 talter:\n KKW\, Kulturkeller in der Winterschule\n Termin:\n Beginn: 14.11
 .2026\, 20:00 Uhr\n Ende: 14.11.2026\n Tickets:\n 16\,- € Vorverkauf\, 17\
 ,- € Abendkasse\, ABO-Preis möglich\n Link:\n Page détaillée
DTSTART;TZID=Europe/Berlin:20261114T200000
DTEND;TZID=Europe/Berlin:20261114T230000
LOCATION:KKW Kulturkeller in der Winterschule\, Stammgässle 2\, 77955 Etten
 heim
SUMMARY:Susi und die Strolche\, KKW Kulturkeller in der Winterschule
X-ALT-DESC;FMTTYPE=text/html:<strong>Kurzbeschreibung:</strong><br/>Von Dja
 ngo Reinhardt über Edith Piaf bis zu Zaz\, von Evelyn Künneke bis hin zu N
 amika im Swinggewand…<br /><strong>Ort:</strong><br/>KKW Kulturkeller in d
 er Winterschule<br/>Stammgässle 2\, 77955 Ettenheim<br /><strong>Veranstal
 ter:</strong><br/>KKW\, Kulturkeller in der Winterschule<br /><strong>Term
 in:</strong><br/>Beginn: 14.11.2026\, 20:00 Uhr<br/>Ende: 14.11.2026<br />
 <strong>Tickets: </strong><br/>16\,- € Vorverkauf\, 17\,- € Abendkasse\, A
 BO-Preis möglich<br /><strong>Link:</strong><br/><a href='https://ok.edith
 -webco.de/fr/evenements/detail/evenement/id/581298-susi-und-die-strolche/?
 vt=1'>Page détaillée </a>
END:VEVENT
END:VCALENDAR
