BEGIN:VCALENDAR
VERSION:2.0
PRODID:-//ok.edith-webco.de//NONSGML kigkonsult.se iCalcreator 2.41.92//
CALSCALE:GREGORIAN
METHOD:PUBLISH
UID:62386636-3265-4439-a362-616239613264
X-WR-TIMEZONE:Europe/Berlin
X-LIC-LOCATION:Europe/Berlin
BEGIN:VEVENT
UID:581576-kulturportal@ok.edith-webco.de
DTSTAMP:20260425T032152Z
DESCRIPTION:Kurzbeschreibung:\n Eine Geschichte von Jürgen von Bülow über L
 ebenslust\, List und Leidenschaft - mitten im Schwarzwald. Inszeniert von 
 der Burgbühne Oberkirch.\n Ort:\n im Garten des 'freche hus'\n Apothekerga
 sse 7\, 77704 Oberkirch\n Veranstalter:\n Burgbühne Oberkirch\n Termin:\n 
 Beginn: 08.07.2026\, 19:00 Uhr\n Ende: 08.07.2026\n Tickets:\n Achat de bi
 llets\n https://ortenaukultur.reservix.de/p/reservix/event/2523772\n Preis
 e:\n jusqu'à 16\,00 € + Réduction\n *Toute taxe comprise\n \n Link:\n Page
  détaillée
DTSTART;TZID=Europe/Berlin:20260708T190000
DTEND;TZID=Europe/Berlin:20260708T220000
LOCATION:im Garten des 'freche hus'\, Apothekergasse 7\, 77704 Oberkirch
SUMMARY:Annas Herzstück (Freilichttheater)\, im Garten des 'freche hus'
X-ALT-DESC;FMTTYPE=text/html:<strong>Kurzbeschreibung:</strong><br/>Eine Ge
 schichte von Jürgen von Bülow über Lebenslust\, List und Leidenschaft - mi
 tten im Schwarzwald. Inszeniert von der Burgbühne Oberkirch.<br /><strong>
 Ort:</strong><br/>im Garten des 'freche hus'<br/>Apothekergasse 7\, 77704 
 Oberkirch<br /><strong>Veranstalter:</strong><br/>Burgbühne Oberkirch<br /
 ><strong>Termin:</strong><br/>Beginn: 08.07.2026\, 19:00 Uhr<br/>Ende: 08.
 07.2026<br /><strong>Tickets: </strong><br/><a rel='asdf' href='https://ok
 .edith-webco.de/fr/detail/billets/id/581576-annas-herzstueck-freilichtthea
 ter/?follow=https%253A%252F%252Fortenaukultur.reservix.de%252Fp%252Freserv
 ix%252Fevent%252F2523772' target='_blank' title='' id='ticketlink'>Achat d
 e billets</a><br/>https://ortenaukultur.reservix.de/p/reservix/event/25237
 72<br/><b>Preise: </b><br />jusqu&#039\;à 16\,00 &euro\;&nbsp\; + Réductio
 n<br />*Toute taxe comprise<br /><br /><strong>Link:</strong><br/><a href=
 'https://ok.edith-webco.de/fr/evenements/detail/evenement/id/581576-annas-
 herzstueck-freilichttheater/?vt=1'>Page détaillée </a>
END:VEVENT
END:VCALENDAR
