BEGIN:VCALENDAR
VERSION:2.0
PRODID:-//ok.edith-webco.de//NONSGML kigkonsult.se iCalcreator 2.41.92//
CALSCALE:GREGORIAN
METHOD:PUBLISH
UID:32626635-3731-4461-a636-336637386132
X-WR-TIMEZONE:Europe/Berlin
X-LIC-LOCATION:Europe/Berlin
BEGIN:VEVENT
UID:581666-kulturportal@ok.edith-webco.de
DTSTAMP:20260425T105257Z
DESCRIPTION:Kurzbeschreibung:\n 'Die Kleine Hexe' nach Otfried Preußler. Fr
 eilichttheater für Familien mit Kindern ab 6 Jahren.\n Ort:\n im Garten de
 s 'freche hus'\n Apothekergasse 7\, 77704 Oberkirch\n Veranstalter:\n Jung
 e Bühne der Realschule Oberkirch\n Termin:\n Beginn: 25.07.2026\, 16:30 Uh
 r\n Ende: 25.07.2026\n Tickets:\n Achat de billets\n https://ortenaukultur
 .reservix.de/p/reservix/event/2537972\n Preise:\n jusqu'à 9\,00 € + Réduct
 ion\n *Toute taxe comprise\n \n Link:\n Page détaillée
DTSTART;TZID=Europe/Berlin:20260725T163000
DTEND;TZID=Europe/Berlin:20260725T193000
LOCATION:im Garten des 'freche hus'\, Apothekergasse 7\, 77704 Oberkirch
SUMMARY:Junge Bühne: Die Kleine Hexe\, im Garten des 'freche hus'
X-ALT-DESC;FMTTYPE=text/html:<strong>Kurzbeschreibung:</strong><br/>'Die Kl
 eine Hexe' nach Otfried Preußler. Freilichttheater für Familien mit Kinder
 n ab 6 Jahren.<br /><strong>Ort:</strong><br/>im Garten des 'freche hus'<b
 r/>Apothekergasse 7\, 77704 Oberkirch<br /><strong>Veranstalter:</strong><
 br/>Junge Bühne der Realschule Oberkirch<br /><strong>Termin:</strong><br/
 >Beginn: 25.07.2026\, 16:30 Uhr<br/>Ende: 25.07.2026<br /><strong>Tickets:
  </strong><br/><a rel='asdf' href='https://ok.edith-webco.de/fr/detail/bil
 lets/id/581666-junge-buehne-die-kleine-hexe/?follow=https%253A%252F%252For
 tenaukultur.reservix.de%252Fp%252Freservix%252Fevent%252F2537972' target='
 _blank' title='' id='ticketlink'>Achat de billets</a><br/>https://ortenauk
 ultur.reservix.de/p/reservix/event/2537972<br/><b>Preise: </b><br />jusqu&
 #039\;à 9\,00 &euro\;&nbsp\; + Réduction<br />*Toute taxe comprise<br /><b
 r /><strong>Link:</strong><br/><a href='https://ok.edith-webco.de/fr/evene
 ments/detail/evenement/id/581666-junge-buehne-die-kleine-hexe/?vt=1'>Page 
 détaillée </a>
END:VEVENT
END:VCALENDAR
