BEGIN:VCALENDAR
VERSION:2.0
PRODID:-//ok.edith-webco.de//NONSGML kigkonsult.se iCalcreator 2.41.92//
CALSCALE:GREGORIAN
METHOD:PUBLISH
UID:33356134-3036-4231-b337-666636383864
X-WR-TIMEZONE:Europe/Berlin
X-LIC-LOCATION:Europe/Berlin
BEGIN:VEVENT
UID:582004-kulturportal@ok.edith-webco.de
DTSTAMP:20260425T102310Z
DESCRIPTION:Kurzbeschreibung:\n Die Besucher erwartet ein abwechslungsreich
 es Unterhaltungsprogramm und ein reichhaltiges Speisen- und Getränkeangebo
 t\n Ort:\n Festplatz auf dem Sandbühl\, Hornberg - Niederwasser\n Veransta
 lter:\n Musikverein und Trachtenkapelle Niederwasser e.V.\n Termin:\n Begi
 nn: 05.07.2026\, 10:15 Uhr\n Ende: 05.07.2026\n Link:\n Page détaillée
DTSTART;TZID=Europe/Berlin:20260705T101500
DTEND;TZID=Europe/Berlin:20260705T131500
LOCATION:Festplatz auf dem Sandbühl\, Hornberg - Niederwasser
SUMMARY:Sandbühlfest\, Festplatz auf dem Sandbühl
X-ALT-DESC;FMTTYPE=text/html:<strong>Kurzbeschreibung:</strong><br/>Die Bes
 ucher erwartet ein abwechslungsreiches Unterhaltungsprogramm und ein reich
 haltiges Speisen- und Getränkeangebot<br /><strong>Ort:</strong><br/>Festp
 latz auf dem Sandbühl\, Hornberg - Niederwasser<br /><strong>Veranstalter:
 </strong><br/>Musikverein und Trachtenkapelle Niederwasser e.V.<br /><stro
 ng>Termin:</strong><br/>Beginn: 05.07.2026\, 10:15 Uhr<br/>Ende: 05.07.202
 6<br /><strong>Link:</strong><br/><a href='https://ok.edith-webco.de/fr/ev
 enements/detail/evenement/id/582004-sandbuehlfest/?vt=1'>Page détaillée </
 a>
END:VEVENT
END:VCALENDAR
