BEGIN:VCALENDAR
VERSION:2.0
PRODID:-//ok.edith-webco.de//NONSGML kigkonsult.se iCalcreator 2.41.92//
CALSCALE:GREGORIAN
METHOD:PUBLISH
UID:35313835-3834-4663-b965-623339623837
X-WR-TIMEZONE:Europe/Berlin
X-LIC-LOCATION:Europe/Berlin
BEGIN:VEVENT
UID:582256-kulturportal@ok.edith-webco.de
DTSTAMP:20260425T151432Z
DESCRIPTION:Kurzbeschreibung:\n Ein Rockcover-Konzert in der stimmungsvolle
 n Atmosphäre des Oberkircher Stadtgartens.\n Ort:\n Stadtgarten\n Stadtgar
 tenstraße\, 77704 Oberkirch\n Veranstalter:\n Oberkirch Kultur\n Termin:\n
  Beginn: 31.07.2026\, 20:00 Uhr\n Ende: 31.07.2026\n Tickets:\n Eintritt i
 st frei\n Link:\n Page détaillée
DTSTART;TZID=Europe/Berlin:20260731T200000
DTEND;TZID=Europe/Berlin:20260731T230000
LOCATION:Stadtgarten\, Stadtgartenstraße\, 77704 Oberkirch
SUMMARY:Feldsalad\, unplugged!\, Stadtgarten
X-ALT-DESC;FMTTYPE=text/html:<strong>Kurzbeschreibung:</strong><br/>Ein Roc
 kcover-Konzert in der stimmungsvollen Atmosphäre des Oberkircher Stadtgart
 ens. <br /><strong>Ort:</strong><br/>Stadtgarten<br/>Stadtgartenstraße\, 7
 7704 Oberkirch<br /><strong>Veranstalter:</strong><br/>Oberkirch Kultur<br
  /><strong>Termin:</strong><br/>Beginn: 31.07.2026\, 20:00 Uhr<br/>Ende: 3
 1.07.2026<br /><strong>Tickets: </strong><br/>Eintritt ist frei<br /><stro
 ng>Link:</strong><br/><a href='https://ok.edith-webco.de/fr/evenements/det
 ail/evenement/id/582256-feldsalad-unplugged/?vt=1'>Page détaillée </a>
END:VEVENT
END:VCALENDAR
