BEGIN:VCALENDAR
VERSION:2.0
PRODID:-//ok.edith-webco.de//NONSGML kigkonsult.se iCalcreator 2.41.92//
CALSCALE:GREGORIAN
METHOD:PUBLISH
UID:37393535-3431-4738-a333-333439326265
X-WR-TIMEZONE:Europe/Berlin
X-LIC-LOCATION:Europe/Berlin
BEGIN:VEVENT
UID:582789-kulturportal@ok.edith-webco.de
DTSTAMP:20260426T015413Z
DESCRIPTION:Kurzbeschreibung:\n Traditionelle und moderne Musikstücke versp
 rechen einen ganz besonderen Abend. Veranstaltungsraum Haus 2\, Etage 4. B
 ei gutem Wetter auf der Terrasse.\n Ort:\n Winkelwaldklinik Nordrach\n Win
 kelwald 1\, 77787 Nordrach\n Veranstalter:\n Trachtenkapelle Nordrach e.V.
 \n Termin:\n Beginn: 14.10.2026\, 19:00 Uhr\n Ende: 14.10.2026\n Link:\n P
 age détaillée
DTSTART;TZID=Europe/Berlin:20261014T190000
DTEND;TZID=Europe/Berlin:20261014T220000
LOCATION:Winkelwaldklinik Nordrach\, Winkelwald 1\, 77787 Nordrach
SUMMARY:Kurkonzert der Trachtenkapelle in der Winkelwaldklinik\, Winkelwald
 klinik Nordrach
X-ALT-DESC;FMTTYPE=text/html:<strong>Kurzbeschreibung:</strong><br/>Traditi
 onelle und moderne Musikstücke versprechen einen ganz besonderen Abend. Ve
 ranstaltungsraum Haus 2\, Etage 4. Bei gutem Wetter auf der Terrasse.<br /
 ><strong>Ort:</strong><br/>Winkelwaldklinik Nordrach<br/>Winkelwald 1\, 77
 787 Nordrach<br /><strong>Veranstalter:</strong><br/>Trachtenkapelle Nordr
 ach e.V.<br /><strong>Termin:</strong><br/>Beginn: 14.10.2026\, 19:00 Uhr<
 br/>Ende: 14.10.2026<br /><strong>Link:</strong><br/><a href='https://ok.e
 dith-webco.de/fr/evenements/detail/evenement/id/582789-kurkonzert-der-trac
 htenkapelle-in-der-winkelwaldklinik/?vt=1'>Page détaillée </a>
END:VEVENT
END:VCALENDAR
