BEGIN:VCALENDAR
VERSION:2.0
PRODID:-//ok.edith-webco.de//NONSGML kigkonsult.se iCalcreator 2.41.92//
CALSCALE:GREGORIAN
METHOD:PUBLISH
UID:65363332-6464-4062-b462-396531613864
X-WR-TIMEZONE:Europe/Berlin
X-LIC-LOCATION:Europe/Berlin
BEGIN:VEVENT
UID:582928-kulturportal@ok.edith-webco.de
DTSTAMP:20260425T163258Z
DESCRIPTION:Kurzbeschreibung:\n Es ist wieder Sommer in der Stadt und was g
 ibt es Schöneres als in den Offenburger Straßen\, guter Musik zu lauschen.
 \n Ort:\n Innenstadt\n \, 77652 Offenburg\n Veranstalter:\n Stadt Offenbur
 g - Stadtmarketing\n Termin:\n Beginn: 31.07.2026\, 18:00 Uhr\n Ende: 31.0
 7.2026\n Tickets:\n Freier Eintritt.\n Link:\n Page détaillée
DTSTART;TZID=Europe/Berlin:20260731T180000
DTEND;TZID=Europe/Berlin:20260731T210000
LOCATION:Innenstadt\, \, 77652 Offenburg
SUMMARY:SOMMER IN DER STADT\, Marktplatz Offenburg
X-ALT-DESC;FMTTYPE=text/html:<strong>Kurzbeschreibung:</strong><br/>\nEs is
 t wieder Sommer in der Stadt und was gibt es Schöneres als in den Offenbur
 ger Straßen\, guter Musik zu lauschen.<br /><strong>Ort:</strong><br/>Inne
 nstadt<br/>\, 77652 Offenburg<br /><strong>Veranstalter:</strong><br/>Stad
 t Offenburg - Stadtmarketing<br /><strong>Termin:</strong><br/>Beginn: 31.
 07.2026\, 18:00 Uhr<br/>Ende: 31.07.2026<br /><strong>Tickets: </strong><b
 r/>Freier Eintritt.<br /><strong>Link:</strong><br/><a href='https://ok.ed
 ith-webco.de/fr/evenements/detail/evenement/id/582928-sommer-in-der-stadt/
 ?vt=1'>Page détaillée </a>
END:VEVENT
END:VCALENDAR
