BEGIN:VCALENDAR
VERSION:2.0
PRODID:-//ok.edith-webco.de//NONSGML kigkonsult.se iCalcreator 2.41.92//
CALSCALE:GREGORIAN
METHOD:PUBLISH
UID:36326530-6666-4862-b438-363035383539
X-WR-TIMEZONE:Europe/Berlin
X-LIC-LOCATION:Europe/Berlin
BEGIN:VEVENT
UID:585196-kulturportal@ok.edith-webco.de
DTSTAMP:20260426T021831Z
DESCRIPTION:Kurzbeschreibung:\n 70 Jahre Die Egerländer Musikanten - Das Or
 iginal auf Jubiläumstournee\n Ort:\n Platz der Verfassungsfreunde / Kultur
 forum\n Aenne-Burda-Allee\, 77654 Offenburg\n Veranstalter:\n Kulturbüro O
 ffenburg\n Termin:\n Beginn: 20.07.2026\, 20:00 Uhr\n Ende: 20.07.2026\n T
 ickets:\n Achat de billets\n https://ortenaukultur.reservix.de/p/reservix/
 event/2491552\n 1. Kategorie:\n 2. Kategorie:\n jusqu'à 56\,00 € + Réducti
 on\n 3. Kategorie:\n jusqu'à 45\,00 € + Réduction\n *Toute taxe comprise\n
  \n Link:\n Page détaillée
DTSTART;TZID=Europe/Berlin:20260720T200000
DTEND;TZID=Europe/Berlin:20260720T230000
LOCATION:Platz der Verfassungsfreunde / Kulturforum\, Aenne-Burda-Allee\, 7
 7654 Offenburg
SUMMARY:Alexander Wurz & Die Egerländer Musikanten\, Platz der Verfassungsf
 reunde / Kulturforum
X-ALT-DESC;FMTTYPE=text/html:<strong>Kurzbeschreibung:</strong><br/>70 Jahr
 e Die Egerländer Musikanten - Das Original auf Jubiläumstournee   \n<br />
 <strong>Ort:</strong><br/>Platz der Verfassungsfreunde / Kulturforum<br/>A
 enne-Burda-Allee\, 77654 Offenburg<br /><strong>Veranstalter:</strong><br/
 >Kulturbüro Offenburg<br /><strong>Termin:</strong><br/>Beginn: 20.07.2026
 \, 20:00 Uhr<br/>Ende: 20.07.2026<br /><strong>Tickets: </strong><br/><a r
 el='asdf' href='https://ok.edith-webco.de/fr/detail/billets/id/585196-alex
 ander-wurz-die-egerlaender-musikanten/?follow=https%253A%252F%252Fortenauk
 ultur.reservix.de%252Fp%252Freservix%252Fevent%252F2491552' target='_blank
 ' title='' id='ticketlink'>Achat de billets</a><br/>https://ortenaukultur.
 reservix.de/p/reservix/event/2491552<br/><b>1. Kategorie: </b><br /><b>2. 
 Kategorie: </b><br />jusqu&#039\;à 56\,00 &euro\;&nbsp\; + Réduction<br />
 <b>3. Kategorie: </b><br />jusqu&#039\;à 45\,00 &euro\;&nbsp\; + Réduction
 <br />*Toute taxe comprise<br /><br /><strong>Link:</strong><br/><a href='
 https://ok.edith-webco.de/fr/evenements/detail/evenement/id/585196-alexand
 er-wurz-die-egerlaender-musikanten/?vt=1'>Page détaillée </a>
END:VEVENT
END:VCALENDAR
