BEGIN:VCALENDAR
VERSION:2.0
PRODID:-//ok.edith-webco.de//NONSGML kigkonsult.se iCalcreator 2.41.92//
CALSCALE:GREGORIAN
METHOD:PUBLISH
UID:35393834-6134-4935-a366-663639313263
X-WR-TIMEZONE:Europe/Berlin
X-LIC-LOCATION:Europe/Berlin
BEGIN:VEVENT
UID:585316-kulturportal@ok.edith-webco.de
DTSTAMP:20260425T162058Z
DESCRIPTION:Kurzbeschreibung:\n Ein wahnwitziger Hüttenzauber mit einem frö
 hlichen Gestöber der bekanntesten Weihnachtshits mit neuen\, urkomischen T
 exten.\n Ort:\n Parktheater\n Kaiserstraße 107\, 77933 Lahr\n Veranstalter
 :\n LahrKultur\n Termin:\n Beginn: 27.11.2026\, 20:00 Uhr\n Ende: 27.11.20
 26\n Tickets:\n Achat de billets\n https://ortenaukultur.reservix.de/p/res
 ervix/event/2542344\n 1. Platz:\n jusqu'à 31\,80 € + Réduction\n 2. Platz:
 \n jusqu'à 28\,50 € + Réduction\n 3. Platz:\n jusqu'à 23\,00 € + Réduction
 \n 4. Platz:\n jusqu'à 15\,30 € + Réduction\n *Toute taxe comprise\n \n Li
 nk:\n Page détaillée
DTSTART;TZID=Europe/Berlin:20261127T200000
DTEND;TZID=Europe/Berlin:20261127T230000
LOCATION:Parktheater\, Kaiserstraße 107\, 77933 Lahr
SUMMARY:Weisse Zeiten\, Parktheater
X-ALT-DESC;FMTTYPE=text/html:<strong>Kurzbeschreibung:</strong><br/>Ein wah
 nwitziger Hüttenzauber mit einem fröhlichen Gestöber der bekanntesten Weih
 nachtshits mit neuen\, urkomischen Texten.<br /><strong>Ort:</strong><br/>
 Parktheater<br/>Kaiserstraße 107\, 77933 Lahr<br /><strong>Veranstalter:</
 strong><br/>LahrKultur<br /><strong>Termin:</strong><br/>Beginn: 27.11.202
 6\, 20:00 Uhr<br/>Ende: 27.11.2026<br /><strong>Tickets: </strong><br/><a 
 rel='asdf' href='https://ok.edith-webco.de/fr/detail/billets/id/585316-wei
 sse-zeiten/?follow=https%253A%252F%252Fortenaukultur.reservix.de%252Fp%252
 Freservix%252Fevent%252F2542344' target='_blank' title='' id='ticketlink'>
 Achat de billets</a><br/>https://ortenaukultur.reservix.de/p/reservix/even
 t/2542344<br/><b>1. Platz: </b><br />jusqu&#039\;à 31\,80 &euro\;&nbsp\; +
  Réduction<br /><b>2. Platz: </b><br />jusqu&#039\;à 28\,50 &euro\;&nbsp\;
  + Réduction<br /><b>3. Platz: </b><br />jusqu&#039\;à 23\,00 &euro\;&nbsp
 \; + Réduction<br /><b>4. Platz: </b><br />jusqu&#039\;à 15\,30 &euro\;&nb
 sp\; + Réduction<br />*Toute taxe comprise<br /><br /><strong>Link:</stron
 g><br/><a href='https://ok.edith-webco.de/fr/evenements/detail/evenement/i
 d/585316-weisse-zeiten/?vt=1'>Page détaillée </a>
END:VEVENT
END:VCALENDAR
