BEGIN:VCALENDAR
VERSION:2.0
PRODID:-//ok.edith-webco.de//NONSGML kigkonsult.se iCalcreator 2.41.92//
CALSCALE:GREGORIAN
METHOD:PUBLISH
UID:61393939-3738-4862-b063-616465643266
X-WR-TIMEZONE:Europe/Berlin
X-LIC-LOCATION:Europe/Berlin
BEGIN:VEVENT
UID:585831-kulturportal@ok.edith-webco.de
DTSTAMP:20260425T214133Z
DESCRIPTION:Kurzbeschreibung:\n Pipo Pollina mit neuer Show auf Tour. La vi
 ta è bella così com’è. - Das Leben ist schön so wie es ist.\n Ort:\n Reith
 alle im Kulturforum\n Moltkestraße 31\, 77654 Offenburg\n Veranstalter:\n 
 Kulturbüro Offenburg\n Termin:\n Beginn: 07.10.2026\, 20:00 Uhr\n Ende: 07
 .10.2026\n Tickets:\n Achat de billets\n https://ortenaukultur.reservix.de
 /p/reservix/event/2498136\n 1. Kategorie:\n jusqu'à 46\,00 € + Réduction\n
  *Toute taxe comprise\n \n Link:\n Page détaillée
DTSTART;TZID=Europe/Berlin:20261007T200000
DTEND;TZID=Europe/Berlin:20261007T230000
LOCATION:Reithalle im Kulturforum\, Moltkestraße 31\, 77654 Offenburg
SUMMARY:Pippo Pollina\, Reithalle im Kulturforum
X-ALT-DESC;FMTTYPE=text/html:<strong>Kurzbeschreibung:</strong><br/>Pipo Po
 llina mit neuer Show auf Tour. La vita è bella così com’è. - Das Leben ist
  schön so wie es ist. \n<br /><strong>Ort:</strong><br/>Reithalle im Kultu
 rforum<br/>Moltkestraße 31\, 77654 Offenburg<br /><strong>Veranstalter:</s
 trong><br/>Kulturbüro Offenburg<br /><strong>Termin:</strong><br/>Beginn: 
 07.10.2026\, 20:00 Uhr<br/>Ende: 07.10.2026<br /><strong>Tickets: </strong
 ><br/><a rel='asdf' href='https://ok.edith-webco.de/fr/detail/billets/id/5
 85831-pippo-pollina/?follow=https%253A%252F%252Fortenaukultur.reservix.de%
 252Fp%252Freservix%252Fevent%252F2498136' target='_blank' title='' id='tic
 ketlink'>Achat de billets</a><br/>https://ortenaukultur.reservix.de/p/rese
 rvix/event/2498136<br/><b>1. Kategorie: </b><br />jusqu&#039\;à 46\,00 &eu
 ro\;&nbsp\; + Réduction<br />*Toute taxe comprise<br /><br /><strong>Link:
 </strong><br/><a href='https://ok.edith-webco.de/fr/evenements/detail/even
 ement/id/585831-pippo-pollina/?vt=1'>Page détaillée </a>
END:VEVENT
END:VCALENDAR
