BEGIN:VCALENDAR
VERSION:2.0
PRODID:-//ok.edith-webco.de//NONSGML kigkonsult.se iCalcreator 2.41.92//
CALSCALE:GREGORIAN
METHOD:PUBLISH
UID:62643536-3537-4439-b030-626131316439
X-WR-TIMEZONE:Europe/Berlin
X-LIC-LOCATION:Europe/Berlin
BEGIN:VEVENT
UID:585839-kulturportal@ok.edith-webco.de
DTSTAMP:20260425T101842Z
DESCRIPTION:Kurzbeschreibung:\n Genießen Sie ein kühles Getränk\, eine leck
 ere Grillwurst und dazu Blasmusik.\n Ort:\n Vor der Kirche\n Georg-Schwend
 emann-Str.\, 77790 Steinach\n Veranstalter:\n Musikverein 'Harmonie' Stein
 ach\n Termin:\n Beginn: 10.07.2026\, 19:00 Uhr\n Ende: 10.07.2026\n Link:
 \n Page détaillée
DTSTART;TZID=Europe/Berlin:20260710T190000
DTEND;TZID=Europe/Berlin:20260710T220000
LOCATION:Vor der Kirche\, Georg-Schwendemann-Str.\, 77790 Steinach
SUMMARY:Musikalischer Dämmerschoppen \, Pfarrgarten
X-ALT-DESC;FMTTYPE=text/html:<strong>Kurzbeschreibung:</strong><br/>Genieße
 n Sie ein kühles Getränk\, eine leckere Grillwurst und dazu Blasmusik. <br
  /><strong>Ort:</strong><br/>Vor der Kirche<br/>Georg-Schwendemann-Str.\, 
 77790 Steinach<br /><strong>Veranstalter:</strong><br/>Musikverein 'Harmon
 ie' Steinach<br /><strong>Termin:</strong><br/>Beginn: 10.07.2026\, 19:00 
 Uhr<br/>Ende: 10.07.2026<br /><strong>Link:</strong><br/><a href='https://
 ok.edith-webco.de/fr/evenements/detail/evenement/id/585839-musikalischer-d
 aemmerschoppen/?vt=1'>Page détaillée </a>
END:VEVENT
END:VCALENDAR
