BEGIN:VCALENDAR
VERSION:2.0
PRODID:-//ok.edith-webco.de//NONSGML kigkonsult.se iCalcreator 2.41.92//
CALSCALE:GREGORIAN
METHOD:PUBLISH
UID:30393465-6638-4861-a432-653963386130
X-WR-TIMEZONE:Europe/Berlin
X-LIC-LOCATION:Europe/Berlin
BEGIN:VEVENT
UID:585939-kulturportal@ok.edith-webco.de
DTSTAMP:20260425T164351Z
DESCRIPTION:Kurzbeschreibung:\n Das Bürgerforum Stadtmarketing Hornberg und
  die Stadt Hornberg freuen sich\, dass auch in diesem Jahr der „Hornberger
  Musiksommer“ wieder an den Start gehen kann\n Ort:\n Bärenplatz\n Hauptst
 raße 85\, 78132 Hornberg\n Veranstalter:\n Bürgerforum - Stadtmarketing Ho
 rnberg\n Termin:\n Beginn: 09.07.2026\, 18:00 Uhr\n Ende: 09.07.2026\n Lin
 k:\n Page détaillée
DTSTART;TZID=Europe/Berlin:20260709T180000
DTEND;TZID=Europe/Berlin:20260709T210000
LOCATION:Bärenplatz\, Hauptstraße 85\, 78132 Hornberg
SUMMARY:Hornberger Musiksommer\, Bärenplatz
X-ALT-DESC;FMTTYPE=text/html:<strong>Kurzbeschreibung:</strong><br/>Das Bür
 gerforum Stadtmarketing Hornberg und die Stadt Hornberg freuen sich\, dass
  auch in diesem Jahr der „Hornberger Musiksommer“ wieder an den Start gehe
 n kann<br /><strong>Ort:</strong><br/>Bärenplatz<br/>Hauptstraße 85\, 7813
 2 Hornberg<br /><strong>Veranstalter:</strong><br/>Bürgerforum - Stadtmark
 eting Hornberg<br /><strong>Termin:</strong><br/>Beginn: 09.07.2026\, 18:0
 0 Uhr<br/>Ende: 09.07.2026<br /><strong>Link:</strong><br/><a href='https:
 //ok.edith-webco.de/fr/evenements/detail/evenement/id/585939-hornberger-mu
 siksommer/?vt=1'>Page détaillée </a>
END:VEVENT
END:VCALENDAR
