BEGIN:VCALENDAR
VERSION:2.0
PRODID:-//ok.edith-webco.de//NONSGML kigkonsult.se iCalcreator 2.41.92//
CALSCALE:GREGORIAN
METHOD:PUBLISH
UID:37383031-3736-4535-b631-613763333663
X-WR-TIMEZONE:Europe/Berlin
X-LIC-LOCATION:Europe/Berlin
BEGIN:VEVENT
UID:588911-kulturportal@ok.edith-webco.de
DTSTAMP:20260425T105742Z
DESCRIPTION:Kurzbeschreibung:\n Großes Stadtfest mit mehreren Bühnen\, Mark
 t und vielfältiger Gastronomie in der gesamten Innenstadt\n Ort:\n Innenst
 adt\n Marktplatz / Hauptstraße\, 77694 Kehl\n Veranstalter:\n Stadt Kehl\n
  Termin:\n Beginn: 15.05.2026\n Ende: 15.05.2026\n Tickets:\n Eintritt kos
 tenlos\n Link:\n Page détaillée
DTSTART;TZID=Europe/Berlin:20260515T000000
DTEND;TZID=Europe/Berlin:20260515T030000
LOCATION:Innenstadt\, Marktplatz / Hauptstraße\, 77694 Kehl
SUMMARY:St Jams Band Kehler Messdi 2026 \, Innenstadt
X-ALT-DESC;FMTTYPE=text/html:<strong>Kurzbeschreibung:</strong><br/>Großes 
 Stadtfest mit mehreren Bühnen\, Markt und vielfältiger Gastronomie in der 
 gesamten Innenstadt<br /><strong>Ort:</strong><br/>Innenstadt<br/>Marktpla
 tz / Hauptstraße\, 77694 Kehl<br /><strong>Veranstalter:</strong><br/>Stad
 t Kehl<br /><strong>Termin:</strong><br/>Beginn: 15.05.2026<br/>Ende: 15.0
 5.2026<br /><strong>Tickets: </strong><br/>Eintritt kostenlos<br /><strong
 >Link:</strong><br/><a href='https://ok.edith-webco.de/fr/evenements/detai
 l/evenement/id/588911-st-jams-band-kehler-messdi-2026/?vt=1'>Page détaillé
 e </a>
END:VEVENT
END:VCALENDAR
