BEGIN:VCALENDAR
VERSION:2.0
PRODID:-//ok.edith-webco.de//NONSGML kigkonsult.se iCalcreator 2.41.92//
CALSCALE:GREGORIAN
METHOD:PUBLISH
UID:34346461-3138-4335-b965-613564653864
X-WR-TIMEZONE:Europe/Berlin
X-LIC-LOCATION:Europe/Berlin
BEGIN:VEVENT
UID:589154-kulturportal@ok.edith-webco.de
DTSTAMP:20260425T140552Z
DESCRIPTION:Kurzbeschreibung:\n Die Führung für Jedermann mit Stadtführerin
  Billy Sum-Herrmann findet in der Reihe DORT statt.\n Ort:\n Historische F
 achwerkaltstadt\n Marktplatz\, 77716 Haslach\n Veranstalter:\n Stadt Hasla
 ch - Kultur und Marketing\n Termin:\n Beginn: 18.06.2026\, 18:00 Uhr\n End
 e: 18.06.2026\n Tickets:\n Erwachsener 12\,00 € pro Person\n \n \n \n Link
 :\n Page détaillée
DTSTART;TZID=Europe/Berlin:20260618T180000
DTEND;TZID=Europe/Berlin:20260618T210000
LOCATION:Historische Fachwerkaltstadt\, Marktplatz\, 77716 Haslach
SUMMARY:Die besondere Stadtführung: die Buttermariele-Tour \, Historische F
 achwerkaltstadt
X-ALT-DESC;FMTTYPE=text/html:<strong>Kurzbeschreibung:</strong><br/>Die Füh
 rung für Jedermann mit Stadtführerin Billy Sum-Herrmann findet in der Reih
 e DORT statt.\n\n<br /><strong>Ort:</strong><br/>Historische Fachwerkaltst
 adt<br/>Marktplatz\, 77716 Haslach<br /><strong>Veranstalter:</strong><br/
 >Stadt Haslach - Kultur und Marketing<br /><strong>Termin:</strong><br/>Be
 ginn: 18.06.2026\, 18:00 Uhr<br/>Ende: 18.06.2026<br /><strong>Tickets: </
 strong><br/>Erwachsener 12\,00 € pro Person<br />\n<br />\n<br />\n<br /><
 strong>Link:</strong><br/><a href='https://ok.edith-webco.de/fr/evenements
 /detail/evenement/id/589154-die-besondere-stadtfuehrung-die-buttermariele-
 tour/?vt=1'>Page détaillée </a>
END:VEVENT
END:VCALENDAR
