BEGIN:VCALENDAR
VERSION:2.0
PRODID:-//ok.edith-webco.de//NONSGML kigkonsult.se iCalcreator 2.41.92//
CALSCALE:GREGORIAN
METHOD:PUBLISH
UID:34666162-6265-4237-b632-353963613332
X-WR-TIMEZONE:Europe/Berlin
X-LIC-LOCATION:Europe/Berlin
BEGIN:VEVENT
UID:590857-kulturportal@ok.edith-webco.de
DTSTAMP:20260425T200746Z
DESCRIPTION:Kurzbeschreibung:\n Das Regionentheater präsentiert das turbule
 nte Kindertheaterstück „Wickie und die starken Männer“ für Kinder ab 5 Jah
 ren.\n Ort:\n Erwin-Braun-Halle\n Querstraße 10\, 77704 Oberkirch\n Verans
 talter:\n Stadt Oberkirch\n Termin:\n Beginn: 22.10.2026\, 10:00 Uhr\n End
 e: 22.10.2026\n Tickets:\n Achat de billets\n https://ortenaukultur.reserv
 ix.de/p/reservix/event/2535540\n Preise:\n jusqu'à 9\,00 € + Réduction\n *
 Toute taxe comprise\n \n Link:\n Page détaillée
DTSTART;TZID=Europe/Berlin:20261022T100000
DTEND;TZID=Europe/Berlin:20261022T130000
LOCATION:Erwin-Braun-Halle\, Querstraße 10\, 77704 Oberkirch
SUMMARY:Wickie und die starken Männer\, Erwin-Braun-Halle
X-ALT-DESC;FMTTYPE=text/html:<strong>Kurzbeschreibung:</strong><br/>Das Reg
 ionentheater präsentiert das turbulente Kindertheaterstück „Wickie und die
  starken Männer“ für Kinder ab 5 Jahren.<br /><strong>Ort:</strong><br/>Er
 win-Braun-Halle<br/>Querstraße 10\, 77704 Oberkirch<br /><strong>Veranstal
 ter:</strong><br/>Stadt Oberkirch<br /><strong>Termin:</strong><br/>Beginn
 : 22.10.2026\, 10:00 Uhr<br/>Ende: 22.10.2026<br /><strong>Tickets: </stro
 ng><br/><a rel='asdf' href='https://ok.edith-webco.de/fr/detail/billets/id
 /590857-wickie-und-die-starken-maenner/?follow=https%253A%252F%252Fortenau
 kultur.reservix.de%252Fp%252Freservix%252Fevent%252F2535540' target='_blan
 k' title='' id='ticketlink'>Achat de billets</a><br/>https://ortenaukultur
 .reservix.de/p/reservix/event/2535540<br/><b>Preise: </b><br />jusqu&#039\
 ;à 9\,00 &euro\;&nbsp\; + Réduction<br />*Toute taxe comprise<br /><br /><
 strong>Link:</strong><br/><a href='https://ok.edith-webco.de/fr/evenements
 /detail/evenement/id/590857-wickie-und-die-starken-maenner/?vt=1'>Page dét
 aillée </a>
END:VEVENT
END:VCALENDAR
