BEGIN:VCALENDAR
VERSION:2.0
PRODID:-//ok.edith-webco.de//NONSGML kigkonsult.se iCalcreator 2.41.92//
CALSCALE:GREGORIAN
METHOD:PUBLISH
UID:32373231-3261-4332-a333-326461373162
X-WR-TIMEZONE:Europe/Berlin
X-LIC-LOCATION:Europe/Berlin
BEGIN:VEVENT
UID:591273-kulturportal@ok.edith-webco.de
DTSTAMP:20260425T003419Z
DESCRIPTION:Kurzbeschreibung:\n 'Unser Chor' Steinach singt fetzige\, fröhl
 iche\, aber auch besinnliche Lieder.\n Ort:\n Turn- und Festhalle\n Schuls
 tr. 1\, 77790 Steinach\n Veranstalter:\n Gesangverein 'Unser Chor' Steinac
 h\n Termin:\n Beginn: 29.11.2026\, 17:00 Uhr\n Ende: 29.11.2026\n Link:\n 
 Page détaillée
DTSTART;TZID=Europe/Berlin:20261129T170000
DTEND;TZID=Europe/Berlin:20261129T200000
LOCATION:Turn- und Festhalle\, Schulstr. 1\, 77790 Steinach
SUMMARY:Konzert von 'Unser Chor' Steinach\, Turn- und Festhalle
X-ALT-DESC;FMTTYPE=text/html:<strong>Kurzbeschreibung:</strong><br/>'Unser 
 Chor' Steinach singt fetzige\, fröhliche\, aber auch besinnliche Lieder.\n
 <br /><strong>Ort:</strong><br/>Turn- und Festhalle<br/>Schulstr. 1\, 7779
 0 Steinach<br /><strong>Veranstalter:</strong><br/>Gesangverein 'Unser Cho
 r' Steinach<br /><strong>Termin:</strong><br/>Beginn: 29.11.2026\, 17:00 U
 hr<br/>Ende: 29.11.2026<br /><strong>Link:</strong><br/><a href='https://o
 k.edith-webco.de/fr/evenements/detail/evenement/id/591273-konzert-von-unse
 r-chor-steinach/?vt=1'>Page détaillée </a>
END:VEVENT
END:VCALENDAR
