BEGIN:VCALENDAR
VERSION:2.0
PRODID:-//ok.edith-webco.de//NONSGML kigkonsult.se iCalcreator 2.41.92//
CALSCALE:GREGORIAN
METHOD:PUBLISH
UID:32656130-3439-4836-a463-323461633862
X-WR-TIMEZONE:Europe/Berlin
X-LIC-LOCATION:Europe/Berlin
BEGIN:VEVENT
UID:591279-kulturportal@ok.edith-webco.de
DTSTAMP:20260425T032904Z
DESCRIPTION:Kurzbeschreibung:\n Unter Leitung von Ulf Schuster präsentiert 
 die Musikkapelle Welschensteinach die Ergebnisse aus intensiver Probenarbe
 it.\n Ort:\n Allmendhalle\n Am Sportplatz 15\, 77790 Steinach-Welschenstei
 nach\n Veranstalter:\n Musikkapelle Welschensteinach\n Termin:\n Beginn: 0
 5.12.2026\, 20:00 Uhr\n Ende: 05.12.2026\n Link:\n Page détaillée
DTSTART;TZID=Europe/Berlin:20261205T200000
DTEND;TZID=Europe/Berlin:20261205T230000
LOCATION:Allmendhalle\, Am Sportplatz 15\, 77790 Steinach-Welschensteinach
SUMMARY:Jahreskonzert der Musikkapelle Welschensteinach\, Allmendhalle
X-ALT-DESC;FMTTYPE=text/html:<strong>Kurzbeschreibung:</strong><br/>Unter L
 eitung von Ulf Schuster präsentiert die  Musikkapelle Welschensteinach die
  Ergebnisse aus intensiver Probenarbeit.\n<br /><strong>Ort:</strong><br/>
 Allmendhalle<br/>Am Sportplatz 15\, 77790 Steinach-Welschensteinach<br /><
 strong>Veranstalter:</strong><br/>Musikkapelle Welschensteinach<br /><stro
 ng>Termin:</strong><br/>Beginn: 05.12.2026\, 20:00 Uhr<br/>Ende: 05.12.202
 6<br /><strong>Link:</strong><br/><a href='https://ok.edith-webco.de/fr/ev
 enements/detail/evenement/id/591279-jahreskonzert-der-musikkapelle-welsche
 nsteinach/?vt=1'>Page détaillée </a>
END:VEVENT
END:VCALENDAR
