BEGIN:VCALENDAR
VERSION:2.0
PRODID:-//ok.edith-webco.de//NONSGML kigkonsult.se iCalcreator 2.41.92//
CALSCALE:GREGORIAN
METHOD:PUBLISH
UID:31623762-3538-4537-b433-653533323231
X-WR-TIMEZONE:Europe/Berlin
X-LIC-LOCATION:Europe/Berlin
BEGIN:VEVENT
UID:591528-kulturportal@ok.edith-webco.de
DTSTAMP:20260425T204510Z
DESCRIPTION:Kurzbeschreibung:\n Ein zwölfjähriger Junge hat ein technisches
  Talent und soll dafür einen Preis erhalten. Seine Reise durch Amerika sor
 gt für Unruhe in der Familie\n Ort:\n KiK - Kultur in der Kaserne\n Weinga
 rtenstraße 34 c\, 77654 Offenburg\n Veranstalter:\n KiK - Kultur in der Ka
 serne\n Termin:\n Beginn: 17.06.2026\, 18:30 Uhr\n Ende: 17.06.2026\n Link
 :\n Page détaillée
DTSTART;TZID=Europe/Berlin:20260617T183000
DTEND;TZID=Europe/Berlin:20260617T213000
LOCATION:KiK - Kultur in der Kaserne\, Weingartenstraße 34 c\, 77654 Offenb
 urg
SUMMARY:Strick Kino mit dem Film Die Karte meiner Träume\, KiK - Kultur in 
 der Kaserne
X-ALT-DESC;FMTTYPE=text/html:<strong>Kurzbeschreibung:</strong><br/>Ein zwö
 lfjähriger Junge hat ein technisches Talent und soll dafür einen Preis erh
 alten. Seine Reise durch Amerika sorgt für Unruhe in der Familie<br /><str
 ong>Ort:</strong><br/>KiK - Kultur in der Kaserne<br/>Weingartenstraße 34 
 c\, 77654 Offenburg<br /><strong>Veranstalter:</strong><br/>KiK - Kultur i
 n der Kaserne<br /><strong>Termin:</strong><br/>Beginn: 17.06.2026\, 18:30
  Uhr<br/>Ende: 17.06.2026<br /><strong>Link:</strong><br/><a href='https:/
 /ok.edith-webco.de/fr/evenements/detail/evenement/id/591528-strick-kino-mi
 t-dem-film-die-karte-meiner-traeume/?vt=1'>Page détaillée </a>
END:VEVENT
END:VCALENDAR
