BEGIN:VCALENDAR
VERSION:2.0
PRODID:-//ok.edith-webco.de//NONSGML kigkonsult.se iCalcreator 2.41.92//
CALSCALE:GREGORIAN
METHOD:PUBLISH
UID:32313136-3638-4064-b831-303163316330
X-WR-TIMEZONE:Europe/Berlin
X-LIC-LOCATION:Europe/Berlin
BEGIN:VEVENT
UID:594056-kulturportal@ok.edith-webco.de
DTSTAMP:20260425T015406Z
DESCRIPTION:Kurzbeschreibung:\n Vier Typen. Vier Mikrofone. Sonst nichts. M
 aybebop machen auch 2027 wieder Halt in der Reithalle Offenburg\n Ort:\n R
 eithalle im Kulturforum\n Moltkestraße 31\, 77654 Offenburg\n Veranstalter
 :\n Kulturbüro Offenburg\n Termin:\n Beginn: 20.03.2027\, 20:00 Uhr\n Ende
 : 20.03.2027\n Tickets:\n Achat de billets\n https://ortenaukultur.reservi
 x.de/p/reservix/event/2516248\n 1. Kategorie:\n jusqu'à 41\,70 € + Réducti
 on\n *Toute taxe comprise\n \n Link:\n Page détaillée
DTSTART;TZID=Europe/Berlin:20270320T200000
DTEND;TZID=Europe/Berlin:20270320T230000
LOCATION:Reithalle im Kulturforum\, Moltkestraße 31\, 77654 Offenburg
SUMMARY:Maybebop\, Reithalle im Kulturforum
X-ALT-DESC;FMTTYPE=text/html:<strong>Kurzbeschreibung:</strong><br/>Vier Ty
 pen. Vier Mikrofone. Sonst nichts.\nMaybebop machen auch 2027 wieder Halt 
 in der Reithalle Offenburg<br /><strong>Ort:</strong><br/>Reithalle im Kul
 turforum<br/>Moltkestraße 31\, 77654 Offenburg<br /><strong>Veranstalter:<
 /strong><br/>Kulturbüro Offenburg<br /><strong>Termin:</strong><br/>Beginn
 : 20.03.2027\, 20:00 Uhr<br/>Ende: 20.03.2027<br /><strong>Tickets: </stro
 ng><br/><a rel='asdf' href='https://ok.edith-webco.de/fr/detail/billets/id
 /594056-maybebop/?follow=https%253A%252F%252Fortenaukultur.reservix.de%252
 Fp%252Freservix%252Fevent%252F2516248' target='_blank' title='' id='ticket
 link'>Achat de billets</a><br/>https://ortenaukultur.reservix.de/p/reservi
 x/event/2516248<br/><b>1. Kategorie: </b><br />jusqu&#039\;à 41\,70 &euro\
 ;&nbsp\; + Réduction<br />*Toute taxe comprise<br /><br /><strong>Link:</s
 trong><br/><a href='https://ok.edith-webco.de/fr/evenements/detail/eveneme
 nt/id/594056-maybebop/?vt=1'>Page détaillée </a>
END:VEVENT
END:VCALENDAR
