BEGIN:VCALENDAR
VERSION:2.0
PRODID:-//ok.edith-webco.de//NONSGML kigkonsult.se iCalcreator 2.41.92//
CALSCALE:GREGORIAN
METHOD:PUBLISH
UID:33666466-6530-4939-b732-306263323330
X-WR-TIMEZONE:Europe/Berlin
X-LIC-LOCATION:Europe/Berlin
BEGIN:VEVENT
UID:594244-kulturportal@ok.edith-webco.de
DTSTAMP:20260426T011603Z
DESCRIPTION:Kurzbeschreibung:\n Alban Beikircher & estro armonico Werke von
  Vivaldi und Wolf-Ferrari\n Ort:\n Kreuzgang / Kapuzinerkloster\n Gymnasiu
 mstraße 7\, 77652 Offenburg\n Veranstalter:\n Kulturbüro Offenburg\n Termi
 n:\n Beginn: 28.06.2026\, 19:00 Uhr\n Ende: 28.06.2026\n Tickets:\n Achat 
 de billets\n https://ortenaukultur.reservix.de/p/reservix/event/2520982\n 
 1. Kategorie:\n jusqu'à 23\,00 € + Réduction\n *Toute taxe comprise\n \n L
 ink:\n Page détaillée
DTSTART;TZID=Europe/Berlin:20260628T190000
DTEND;TZID=Europe/Berlin:20260628T220000
LOCATION:Kreuzgang / Kapuzinerkloster\, Gymnasiumstraße 7\, 77652 Offenburg
SUMMARY:Kreuzgangkonzert - Luce di Venezia\, Kreuzgang / Kapuzinerkloster
X-ALT-DESC;FMTTYPE=text/html:<strong>Kurzbeschreibung:</strong><br/>Alban B
 eikircher & estro armonico\n\nWerke von Vivaldi und Wolf-Ferrari\n<br /><s
 trong>Ort:</strong><br/>Kreuzgang / Kapuzinerkloster<br/>Gymnasiumstraße 7
 \, 77652 Offenburg<br /><strong>Veranstalter:</strong><br/>Kulturbüro Offe
 nburg<br /><strong>Termin:</strong><br/>Beginn: 28.06.2026\, 19:00 Uhr<br/
 >Ende: 28.06.2026<br /><strong>Tickets: </strong><br/><a rel='asdf' href='
 https://ok.edith-webco.de/fr/detail/billets/id/594244-kreuzgangkonzert-luc
 e-di-venezia/?follow=https%253A%252F%252Fortenaukultur.reservix.de%252Fp%2
 52Freservix%252Fevent%252F2520982' target='_blank' title='' id='ticketlink
 '>Achat de billets</a><br/>https://ortenaukultur.reservix.de/p/reservix/ev
 ent/2520982<br/><b>1. Kategorie: </b><br />jusqu&#039\;à 23\,00 &euro\;&nb
 sp\; + Réduction<br />*Toute taxe comprise<br /><br /><strong>Link:</stron
 g><br/><a href='https://ok.edith-webco.de/fr/evenements/detail/evenement/i
 d/594244-kreuzgangkonzert-luce-di-venezia/?vt=1'>Page détaillée </a>
END:VEVENT
END:VCALENDAR
