BEGIN:VCALENDAR
VERSION:2.0
PRODID:-//ok.edith-webco.de//NONSGML kigkonsult.se iCalcreator 2.41.92//
CALSCALE:GREGORIAN
METHOD:PUBLISH
UID:33383362-6565-4465-a136-616434373837
X-WR-TIMEZONE:Europe/Berlin
X-LIC-LOCATION:Europe/Berlin
BEGIN:VEVENT
UID:594246-kulturportal@ok.edith-webco.de
DTSTAMP:20260425T111931Z
DESCRIPTION:Kurzbeschreibung:\n Duo Belá Kovács mit Werken von u.a. Brahms\
 , Schubert\, Piazzolla und Morricone\n Ort:\n Kreuzgang / Kapuzinerkloster
 \n Gymnasiumstraße 7\, 77652 Offenburg\n Veranstalter:\n Kulturbüro Offenb
 urg\n Termin:\n Beginn: 13.06.2026\, 19:00 Uhr\n Ende: 13.06.2026\n Ticket
 s:\n Achat de billets\n https://ortenaukultur.reservix.de/p/reservix/event
 /2520980\n 1. Kategorie:\n jusqu'à 23\,00 € + Réduction\n *Toute taxe comp
 rise\n \n Link:\n Page détaillée
DTSTART;TZID=Europe/Berlin:20260613T190000
DTEND;TZID=Europe/Berlin:20260613T220000
LOCATION:Kreuzgang / Kapuzinerkloster\, Gymnasiumstraße 7\, 77652 Offenburg
SUMMARY:Kreuzgangkonzert - Songs from a Secret Garden\, Kreuzgang / Kapuzin
 erkloster
X-ALT-DESC;FMTTYPE=text/html:<strong>Kurzbeschreibung:</strong><br/>Duo Bel
 á Kovács mit Werken von u.a. Brahms\, Schubert\, Piazzolla und Morricone<b
 r /><strong>Ort:</strong><br/>Kreuzgang / Kapuzinerkloster<br/>Gymnasiumst
 raße 7\, 77652 Offenburg<br /><strong>Veranstalter:</strong><br/>Kulturbür
 o Offenburg<br /><strong>Termin:</strong><br/>Beginn: 13.06.2026\, 19:00 U
 hr<br/>Ende: 13.06.2026<br /><strong>Tickets: </strong><br/><a rel='asdf' 
 href='https://ok.edith-webco.de/fr/detail/billets/id/594246-kreuzgangkonze
 rt-songs-from-a-secret-garden/?follow=https%253A%252F%252Fortenaukultur.re
 servix.de%252Fp%252Freservix%252Fevent%252F2520980' target='_blank' title=
 '' id='ticketlink'>Achat de billets</a><br/>https://ortenaukultur.reservix
 .de/p/reservix/event/2520980<br/><b>1. Kategorie: </b><br />jusqu&#039\;à 
 23\,00 &euro\;&nbsp\; + Réduction<br />*Toute taxe comprise<br /><br /><st
 rong>Link:</strong><br/><a href='https://ok.edith-webco.de/fr/evenements/d
 etail/evenement/id/594246-kreuzgangkonzert-songs-from-a-secret-garden/?vt=
 1'>Page détaillée </a>
END:VEVENT
END:VCALENDAR
