BEGIN:VCALENDAR
VERSION:2.0
PRODID:-//ok.edith-webco.de//NONSGML kigkonsult.se iCalcreator 2.41.92//
CALSCALE:GREGORIAN
METHOD:PUBLISH
UID:64666630-3237-4662-b764-383161383462
X-WR-TIMEZONE:Europe/Berlin
X-LIC-LOCATION:Europe/Berlin
BEGIN:VEVENT
UID:595015-kulturportal@ok.edith-webco.de
DTSTAMP:20260425T163417Z
DESCRIPTION:Kurzbeschreibung:\n Eine Zeitreise in das wildeste Jahrzehnt: d
 ie 90er! Die Ära der Boybands\, Game Boys und der ganz großen Hits kehrt z
 urück – und das live auf der Bühne!\n Ort:\n Reithalle im Kulturforum\n Mo
 ltkestraße 31\, 77654 Offenburg\n Veranstalter:\n Kulturbüro Offenburg\n T
 ermin:\n Beginn: 25.02.2027\, 20:00 Uhr\n Ende: 25.02.2027\n Tickets:\n Ac
 hat de billets\n https://ortenaukultur.reservix.de/p/reservix/event/255165
 5\n 1. Kategorie:\n jusqu'à 39\,50 € + Réduction\n *Toute taxe comprise\n 
 \n Link:\n Page détaillée
DTSTART;TZID=Europe/Berlin:20270225T200000
DTEND;TZID=Europe/Berlin:20270225T230000
LOCATION:Reithalle im Kulturforum\, Moltkestraße 31\, 77654 Offenburg
SUMMARY:Baby One More Time - 90er Show\, Reithalle im Kulturforum
X-ALT-DESC;FMTTYPE=text/html:<strong>Kurzbeschreibung:</strong><br/>Eine Ze
 itreise in das wildeste Jahrzehnt: die 90er! Die Ära der Boybands\, Game B
 oys und der ganz großen Hits kehrt zurück – und das live auf der Bühne!<br
  /><strong>Ort:</strong><br/>Reithalle im Kulturforum<br/>Moltkestraße 31\
 , 77654 Offenburg<br /><strong>Veranstalter:</strong><br/>Kulturbüro Offen
 burg<br /><strong>Termin:</strong><br/>Beginn: 25.02.2027\, 20:00 Uhr<br/>
 Ende: 25.02.2027<br /><strong>Tickets: </strong><br/><a rel='asdf' href='h
 ttps://ok.edith-webco.de/fr/detail/billets/id/595015-baby-one-more-time-90
 er-show/?follow=https%253A%252F%252Fortenaukultur.reservix.de%252Fp%252Fre
 servix%252Fevent%252F2551655' target='_blank' title='' id='ticketlink'>Ach
 at de billets</a><br/>https://ortenaukultur.reservix.de/p/reservix/event/2
 551655<br/><b>1. Kategorie: </b><br />jusqu&#039\;à 39\,50 &euro\;&nbsp\; 
 + Réduction<br />*Toute taxe comprise<br /><br /><strong>Link:</strong><br
 /><a href='https://ok.edith-webco.de/fr/evenements/detail/evenement/id/595
 015-baby-one-more-time-90er-show/?vt=1'>Page détaillée </a>
END:VEVENT
END:VCALENDAR
