BEGIN:VCALENDAR
VERSION:2.0
PRODID:-//ok.edith-webco.de//NONSGML kigkonsult.se iCalcreator 2.41.92//
CALSCALE:GREGORIAN
METHOD:PUBLISH
UID:63643864-3136-4439-b963-653962313665
X-WR-TIMEZONE:Europe/Berlin
X-LIC-LOCATION:Europe/Berlin
BEGIN:VEVENT
UID:595081-kulturportal@ok.edith-webco.de
DTSTAMP:20260425T161607Z
DESCRIPTION:Kurzbeschreibung:\n Dorfrundgang - alles von Nordrach erfahren 
 was wissenswert und interessant ist!\n Ort:\n Rathaus\n Im Dorf 26\, 77787
  Nordrach\n Veranstalter:\n Touristen-Information Nordrach\n Termin:\n Beg
 inn: 13.05.2026\, 19:00 Uhr\n Ende: 13.05.2026\n Link:\n Page détaillée
DTSTART;TZID=Europe/Berlin:20260513T190000
DTEND;TZID=Europe/Berlin:20260513T220000
LOCATION:Rathaus \, Im Dorf 26\, 77787 Nordrach
SUMMARY:Dorfrundgang - Geschichte und Geschichten erleben\, Rathaus
X-ALT-DESC;FMTTYPE=text/html:<strong>Kurzbeschreibung:</strong><br/>Dorfrun
 dgang - alles von Nordrach erfahren was wissenswert und interessant ist! <
 br /><strong>Ort:</strong><br/>Rathaus <br/>Im Dorf 26\, 77787 Nordrach<br
  /><strong>Veranstalter:</strong><br/>Touristen-Information Nordrach<br />
 <strong>Termin:</strong><br/>Beginn: 13.05.2026\, 19:00 Uhr<br/>Ende: 13.0
 5.2026<br /><strong>Link:</strong><br/><a href='https://ok.edith-webco.de/
 fr/evenements/detail/evenement/id/595081-dorfrundgang-geschichte-und-gesch
 ichten-erleben/?vt=1'>Page détaillée </a>
END:VEVENT
END:VCALENDAR
