BEGIN:VCALENDAR
VERSION:2.0
PRODID:-//ok.edith-webco.de//NONSGML kigkonsult.se iCalcreator 2.41.92//
CALSCALE:GREGORIAN
METHOD:PUBLISH
UID:38333437-6634-4762-a637-356236333663
X-WR-TIMEZONE:Europe/Berlin
X-LIC-LOCATION:Europe/Berlin
BEGIN:VEVENT
UID:595158-kulturportal@ok.edith-webco.de
DTSTAMP:20260425T102338Z
DESCRIPTION:Kurzbeschreibung:\n Großes Stadtfest mit mehreren Bühnen\, Mark
 t und vielfältiger Gastronomie in der gesamten Innenstadt\n Ort:\n Innenst
 adt\n Marktplatz / Hauptstraße\, 77694 Kehl\n Veranstalter:\n Stadt Kehl\n
  Termin:\n Beginn: 14.05.2026\, 16:30 Uhr\n Ende: 14.05.2026\n Tickets:\n 
 Eintritt kostenlos\n Link:\n Page détaillée
DTSTART;TZID=Europe/Berlin:20260514T163000
DTEND;TZID=Europe/Berlin:20260514T193000
LOCATION:Innenstadt\, Marktplatz / Hauptstraße\, 77694 Kehl
SUMMARY:FRANKNWOLF Kehler Messdi 2026  \, Innenstadt
X-ALT-DESC;FMTTYPE=text/html:<strong>Kurzbeschreibung:</strong><br/>Großes 
 Stadtfest mit mehreren Bühnen\, Markt und vielfältiger Gastronomie in der 
 gesamten Innenstadt<br /><strong>Ort:</strong><br/>Innenstadt<br/>Marktpla
 tz / Hauptstraße\, 77694 Kehl<br /><strong>Veranstalter:</strong><br/>Stad
 t Kehl<br /><strong>Termin:</strong><br/>Beginn: 14.05.2026\, 16:30 Uhr<br
 />Ende: 14.05.2026<br /><strong>Tickets: </strong><br/>Eintritt kostenlos<
 br /><strong>Link:</strong><br/><a href='https://ok.edith-webco.de/fr/even
 ements/detail/evenement/id/595158-franknwolf-kehler-messdi-2026/?vt=1'>Pag
 e détaillée </a>
END:VEVENT
END:VCALENDAR
